Workbook
Name assofirm: #REF!
Name AssoFirms: #REF!
Name cogm: #REF!
Name cogs: #REF!
Name demp: #REF!
Name fexp: #REF!
Name gsa: #REF!
Name iemp: #REF!
Name ndpv: #REF!
Name ndsv: #REF!
Name nsv: #REF!
Name POR: #REF!
Name ppc: #REF!
Name quest8: #REF!

Sheet Variables
A1: Variable | B1: English | C1: French | F1: Data Validation comments
A2: Case Number | B2: RR-2026-002 & RR-2026-003 | C2: =B2 -> RR-2026-002 & RR-2026-003 | F2: 1000 character limit | limite de 1000 caractères
A3: The Goods | B3: concrete reinforcing bar | C3: barres d'armature pour béton | F3: Maximum length reached. Please use the AddPub tab to add further info. | La limite maximale de caractères est atteinte. SVP utiliser l'onglet AddPub pour ajouter plus d'information.
A4: Type | B4: dumping | C4: le dumping | F4: Maximum length reached. Please use the AddPro tab to add further info. | La limite maximale de caractères est atteinte. SVP utiliser l'onglet AddPro pour ajouter plus d'information.
A5: Subject Countries (incl. French pronouns: de la, du, des) | B5: Algeria, Egypt, Indonesia, Italy, Malaysia, Singapore, Vietnam, Oman and Russia | C5: de l’Algérie, de l’Égypte, de l’Indonésie, de l’Italie, de la Malaisie, de Singapour, du Vietnam, d’Oman et de la Russie | D5: les pays sujets
A6: First Year of POR | B6: 2023 | C6: =B6 -> 2023 | F6: Important notes for formatting
A7: Last Day of POR | B7: June 30 | C7: 30 juin | F7: When adding or modifying columns, please ensure the total of all column widths in a tab equals 1760 pixels to allow for consistent scaling when exported to PDF.
A8: Last Year of POR | B8: 2026 | C8: =B8 -> 2026 | F8: i.e. columns B-L should be 160 pixels each.
A9: Int period 1 | B9: Jan-Jun 2025 | C9: janv-juin 2025 | F9: Insert and merge rows where needed to expand height of text boxes.
A10: Int period 2 | B10: Jan-Jun 2026 | C10: janv-juin 2026
A11: Due Date | B11: October 9, 2026 | C11: 9 octobre 2026
A13: Analyst 1 | B13: Thy Dao | C13: thy.dao@tribunal.gc.ca | D13: 613-558-6438
A14: Analyst 2 | B14: William Phan | C14: william.phan@tribunal.gc.ca | D14: 343-543-7269
A16: Product Defn | B16: Hot-rolled deformed steel concrete reinforcing bar in straight lengths or coils, commonly identified as rebar, in various diameters up to and including 56.4 millimeters, in various finishes, excluding plain round bar and fabricated rebar products. Also excluded is 10 mm diameter (10M) rebar produced to meet the requirements of CSA G30 18.09 (or equivalent standards) that is coated to meet the requirements of epoxy standard ASTM A775/A 775M 04a (or equivalent standards) in lengths from 1 foot (30.48 cm) up to and including 8 feet (243.84 cm). | C16: Barres d’armature crénelées pour béton en acier, laminées à chaud, en longueurs droites ou sous forme de bobines, souvent identifiées comme armature, de différents diamètres jusqu’à 56,4 millimètres inclusivement, de finitions différentes, excluant les barres rondes ordinaires et les produits de barres d’armature fabriqués. Sont aussi exclues les armatures d’un diamètre de 10 mm (10M) produites selon la norme CSA G30 18.09 (ou selon des normes équivalentes) et revêtues de résine époxyde selon la norme ASTM A775/A 775M 04a (ou selon des normes équivalentes) en longueurs de 1 pied (30,48 cm) jusques et y compris 8 pieds (243,84 cm).
A17: Additional Product Info | B17: https://www.cbsa-asfc.gc.ca/sima-lmsi/i-e/rb32020/rb32020-in-eng.html#toc4-2 | C17: https://www.cbsa-asfc.gc.ca/sima-lmsi/i-e/rb32020/rb32020-in-fra.html#toc4-2
B18: https://www.cbsa-asfc.gc.ca/sima-lmsi/i-e/rb42020/rb42020-fd-eng.html#toc5-2 | C18: https://www.cbsa-asfc.gc.ca/sima-lmsi/i-e/rb42020/rb42020-fd-fra.html#toc5-2
A19: HS Code defn change date | B19: Date of change | C19: Date of change
A20: HS Codes before change | B20: 7213.10.00.11, 7213.10.00.12, 7213.10.00.13, 7213.10.00.90, 7214.20.00.11, 7214.20.00.12, 7214.20.00.13, 7214.20.00.14, 7214.20.00.21, 7214.20.00.22, 7214.20.00.23, 7214.20.00.24, 7214.20.00.31, 7214.20.00.32, 7214.20.00.33, 7214.20.00.34, 7214.20.00.90, 7215.90.00.20, 7215.90.00.30, 7227.90.00.50, 7228.30.00.51, 7228.30.00.52, 7228.30.00.53 | C20: 7213.10.00.11, 7213.10.00.12, 7213.10.00.13, 7213.10.00.90, 7214.20.00.11, 7214.20.00.12, 7214.20.00.13, 7214.20.00.14, 7214.20.00.21, 7214.20.00.22, 7214.20.00.23, 7214.20.00.24, 7214.20.00.31, 7214.20.00.32, 7214.20.00.33, 7214.20.00.34, 7214.20.00.90, 7215.90.00.20, 7215.90.00.30, 7227.90.00.50, 7228.30.00.51, 7228.30.00.52, 7228.30.00.53
A21: HS Codes after change | B21: HS codes/Codes SH
A23: UOM (plural) | B23: Tonnes | C23: Tonnes
A24: UOM (singular) | B24: Tonne | C24: Tonne
A26: Trade Level 1 (plural) | B26: distributors / service centres | C26: distributeurs / centres de services
A27: Trade Level 2 (plural) | B27: end users / fabricators | C27: utilisateurs finals / transformateurs
A29: Countries for Tabs
A30: Subject Country/Pays sujet 1 | B30: Algeria | C30: Algérie
A31: US | B31: United States of America | C31: États-Unis d'Amérique
A32: Other countries | B32: Other countries (including goods exported from Thailand from Thai Steel Profile Public Company Limited) | C32: Autres pays (y compris les marchandises exportées de Thaïlande par Thai Steel Profile Public Company Limited)
A33: Subject Country/Pays sujet 2 | B33: Egypt | C33: Égypte
A34: Subject Country/Pays sujet 3 | B34: Indonesia | C34: Indonésie
A35: Subject Country/Pays sujet 4 | B35: Italy | C35: Italie
A37: Drop down lists
A38: Intro, Confirm | B38: Yes | C38: Oui | D38: =IF(Intro!$G$24="English",B38,C38) -> Yes
B39: No | C39: Non | D39: =IF(Intro!$G$24="English",B39,C39) -> No
A41: Public Question 1 | B41: Distributor | C41: Distributeur | D41: =IF(Intro!$G$24="English",B41,C41) -> Distributor
B42: End user | C42: Utilisateur final | D42: =IF(Intro!$G$24="English",B42,C42) -> End user
B43: Broker or trader | C43: Courtier ou commerçant | D43: =IF(Intro!$G$24="English",B43,C43) -> Broker or trader
A45: Subject Country/Pays sujet 5 | B45: Malaysia | C45: Malaisie
A46: Subject Country/Pays sujet 6 | B46: Singapore | C46: Singapour
A47: Subject Country/Pays sujet 7 | B47: Vietnam | C47: Vietnam
A48: Subject Country/Pays sujet 8 | B48: Oman | C48: Oman
...

Sheet Intro
O1: hiddenc | P1: hiddenc
B2: PUBLIC | O2: English | P2: Français
B4: IMPORTER QUESTIONNAIRE | QUESTIONNAIRE À L'INTENTION DES IMPORTATEURS
B5: =Variables!B2 -> RR-2026-002 & RR-2026-003
B6: =UPPER(Variables!B3&" | "&Variables!C3) -> CONCRETE REINFORCING BAR | BARRES D'ARMATURE POUR BÉTON
B8: INTRODUCTION
O9: SVP accorder ces mots : "défini/définis/définie/définies"; "originaire/originaires"; "exporté/exportés/exportée/exportées" selon le(s) mot(s) utilisé(s) pour décrire les biens couverts par ce RR (soit avec "les marchandises" (féminin pluriel) ou avec la définition de ces marchandises)
B10: ="The information requested in this questionnaire is for use by the Canadian International Trade Tribunal (the Tribunal) in connection with its expiry reviews concerning the "&Variables!B4&" of "&Variables!B3&" (as defined below) originating in or exported from "&Variables!B5&". Your firm's knowledge and experience would aid the Tribunal in the proper conduct of its expiry reviews by helping it better understand the Canadian market for "&Variables!B3&". The Tribunal therefore requests a response to this questionnaire from your firm." -> The information requested in this questionnaire is for use by the Canadian International Trade Tribunal (the Tribunal) in connection with its expiry reviews concerning the dumping of concrete reinforcing bar (as defined below) originating in or exported from Algeria, Egypt, Indonesia, Italy, Malaysia, Singapore, Vietnam, Oman and Russia. Your firm's knowledge and experience would aid the Tribunal in the proper conduct of its expiry reviews by helping it better understand the Canadian market for concrete reinforcing bar. The Tribunal therefore requests a response to this questionnaire from your firm. | H10: ="Les renseignements demandés dans le présent questionnaire seront utilisés par le Tribunal canadien du commerce extérieur (le Tribunal) dans le cadre de ses réexamens relatifs à l'expiration concernant "&Variables!C4&" de "&Variables!C3&" (telles que définies ci-dessous) originaires ou exportées de "&Variables!C5&". Les connaissances et l'expérience de votre entreprise aideraient le Tribunal à mener correctement ses réexamens relatifs à l’expiration en lui permettant de mieux comprendre le marché canadien de "&Variables!C3&". Le Tribunal demande donc à votre entreprise de répondre à ce questionnaire." -> Les renseignements demandés dans le présent questionnaire seront utilisés par le Tribunal canadien du commerce extérieur (le Tribunal) dans le cadre de ses réexamens relatifs à l'expiration concernant le dumping de barres d'armature pour béton (telles que définies ci-dessous) originaires ou exportées de de l’Algérie, de l’Égypte, de l’Indonésie, de l’Italie, de la Malaisie, de Singapour, du Vietnam, d’Oman et de la Russie. Les connaissances et l'expérience de votre entreprise aideraient le Tribunal à mener correctement ses réexamens relatifs à l’expiration en lui permettant de mieux comprendre le marché canadien de barres d'armature pour béton. Le Tribunal demande donc à votre entreprise de répondre à ce questionnaire.
B22: LANGUAGE PREFERENCE | PRÉFÉRENCE LINGUISTIQUE
B24: In which language would you prefer to complete this questionnaire? | G24: English | H24: Dans quelle langue préférez-vous remplir ce questionnaire?
B28: =IF(Intro!$G$24="English",O28,P28) -> DEFINITION OF "THE GOODS" | C28: =UPPER(IF(Intro!$G$24="English",P28,Q28)) -> LA DÉFINITION "DES MARCHANDISES" | D28: =UPPER(IF(Intro!$G$24="English",Q28,R28)) | E28: =UPPER(IF(Intro!$G$24="English",R28,S28)) | F28: =UPPER(IF(Intro!$G$24="English",S28,T28)) | H28: =UPPER(IF(Intro!$G$24="English",T28,U28)) | I28: =UPPER(IF(Intro!$G$24="English",U28,V28)) | J28: =UPPER(IF(Intro!$G$24="English",V28,W28)) | K28: =UPPER(IF(Intro!$G$24="English",W28,X28)) | L28: =UPPER(IF(Intro!$G$24="English",X28,Y28)) | O28: DEFINITION OF "THE GOODS" | P28: LA DÉFINITION "DES MARCHANDISES"
B30: =IF(Intro!$G$24="English",O30,P30) -> References to "the goods" in this questionnaire refer to: | O30: References to "the goods" in this questionnaire refer to: | P30: Les références aux « marchandises » dans ce questionnaire font référence à :
C32: =IF(Intro!$G$24="English",Variables!B16,Variables!C16) -> Hot-rolled deformed steel concrete reinforcing bar in straight lengths or coils, commonly identified as rebar, in various diameters up to and including 56.4 millimeters, in various finishes, excluding plain round bar and fabricated rebar products. Also excluded is 10 mm diameter (10M) rebar produced to meet the requirements of CSA G30 18.09 (or equivalent standards) that is coated to meet the requirements of epoxy standard ASTM A775/A 775M 04a (or equivalent standards) in lengths from 1 foot (30.48 cm) up to and including 8 feet (243.84 cm).
B39: =IF(Intro!$G$24="English",O39,P39) -> For additional details, view the Info tab. | O39: For additional details, view the Info tab. | P39: Pour plus de détails, consultez l'onglet Info.
B42: =IF(Intro!$G$24="English",O42,P42) -> DO YOU NEED TO COMPLETE THIS QUESTIONNAIRE? | O42: DO YOU NEED TO COMPLETE THIS QUESTIONNAIRE? | P42: DEVEZ-VOUS REMPLIR CE QUESTIONNAIRE?
B44: =IF(Intro!$G$24="English",O44,P44) -> Has your firm imported the goods as the importer of record from any country since January 1, 2023? | O44: ="Has your firm imported the goods as the importer of record from any country since January 1, "&Variables!B6&"?" -> Has your firm imported the goods as the importer of record from any country since January 1, 2023? | P44: ="Votre entreprise a-t-elle importé des marchandises en tant qu'importateur officiel de n'importe quel pays depuis le 1er janvier "&Variables!C6 &"?" -> Votre entreprise a-t-elle importé des marchandises en tant qu'importateur officiel de n'importe quel pays depuis le 1er janvier 2023?
O45: Select Yes or No | P45: Sélectionnez oui ou non
B46: =IF(Intro!$G$24="English",O45,P45) -> Select Yes or No | E46: =IF(D46="Yes",O46,IF(D46="Oui",P46,IF(D46="No",O47,IF(D46="Non",P47,"")))) | O46: ="Complete all tabs in this questionnaire and submit it by "&Variables!B11&"." -> Complete all tabs in this questionnaire and submit it by October 9, 2026. | P46: ="Remplissez tous les onglets de ce questionnaire et soumettez-le avant le "&Variables!C11&"." -> Remplissez tous les onglets de ce questionnaire et soumettez-le avant le 9 octobre 2026.
O47: ="Complete this tab only and submit it by "&Variables!B11&"." -> Complete this tab only and submit it by October 9, 2026. | P47: ="Remplissez cet onglet uniquement et soumettez-le avant le "&Variables!C11&"." -> Remplissez cet onglet uniquement et soumettez-le avant le 9 octobre 2026.
B49: =IF(Intro!$G$24="English",O49,P49) -> If no, explain why import data indicates that you imported using the HS numbers listed on the Info tab during this period. | O49: If no, explain why import data indicates that you imported using the HS numbers listed on the Info tab during this period. | P49: Si non, expliquez pourquoi les données d'importation indiquent que vous avez importé en utilisant les numéros SH énumérés dans l'onglet Info au cours de cette période.
B61: =IF(Intro!$G$24="English",O61,P61) -> QUESTIONNAIRE DUE DATE | C61: =UPPER(IF(Intro!$G$24="English",P61,Q61)) -> DATE D'ÉCHÉANCE DU QUESTIONNAIRE | D61: =UPPER(IF(Intro!$G$24="English",Q61,R61)) | E61: =UPPER(IF(Intro!$G$24="English",R61,S61)) | F61: =UPPER(IF(Intro!$G$24="English",S61,T61)) | H61: =UPPER(IF(Intro!$G$24="English",T61,U61)) | I61: =UPPER(IF(Intro!$G$24="English",U61,V61)) | J61: =UPPER(IF(Intro!$G$24="English",V61,W61)) | K61: =UPPER(IF(Intro!$G$24="English",W61,X61)) | L61: =UPPER(IF(Intro!$G$24="English",X61,Y61)) | O61: QUESTIONNAIRE DUE DATE | P61: DATE D'ÉCHÉANCE DU QUESTIONNAIRE
D63: =IF(Intro!$G$24="English",Variables!B11,Variables!C11) -> October 9, 2026
B67: =IF(Intro!$G$24="English",O67,P67) -> FAILURE TO COMPLETE QUESTIONNAIRE | C67: =UPPER(IF(Intro!$G$24="English",P67,Q67)) -> QUESTIONNAIRE NON REMPLI | D67: =UPPER(IF(Intro!$G$24="English",Q67,R67)) | E67: =UPPER(IF(Intro!$G$24="English",R67,S67)) | F67: =UPPER(IF(Intro!$G$24="English",S67,T67)) | H67: =UPPER(IF(Intro!$G$24="English",T67,U67)) | I67: =UPPER(IF(Intro!$G$24="English",U67,V67)) | J67: =UPPER(IF(Intro!$G$24="English",V67,W67)) | K67: =UPPER(IF(Intro!$G$24="English",W67,X67)) | L67: =UPPER(IF(Intro!$G$24="English",X67,Y67)) | O67: FAILURE TO COMPLETE QUESTIONNAIRE | P67: QUESTIONNAIRE NON REMPLI
B69: =IF(Intro!$G$24="English",O69,P69) -> Failure to complete the questionnaire by the due date may result in the Tribunal issuing a production order, pursuant to section 17 of the Canadian International Trade Tribunal Act, to compel the production of a questionnaire response. | O69: Failure to complete the questionnaire by the due date may result in the Tribunal issuing a production order, pursuant to section 17 of the Canadian International Trade Tribunal Act, to compel the production of a questionnaire response. | P69: Si le questionnaire n’est pas rempli dans les délais impartis, le Tribunal peut rendre une ordonnance de production, aux termes de l’article 17 de la Loi sur le Tribunal canadien du commerce extérieur, afin d’exiger la production d’une réponse au questionnaire.
B73: =IF(Intro!$G$24="English",O73,P73) -> FIRM INFORMATION | O73: FIRM INFORMATION | P73: RENSEIGNEMENTS SUR L’ENTREPRISE
B75: =IF(Intro!$G$24="English",O75,P75) -> Firm Name (In English and French, if applicable) | O75: Firm Name (In English and French, if applicable) | P75: Dénomination sociale (en français et en anglais, le cas échéant)
B77: =IF(Intro!$G$24="English",O77,P77) -> Firm Address | O77: Firm Address | P77: Adresse de l'entreprise
B79: =IF(Intro!$G$24="English",O79,P79) -> Website Address | O79: Website Address | P79: Adresse du site Web
B81: =IF(Intro!$G$24="English",O81,P81) -> Is your firm registered as a non-resident importer with the Canada Revenue Agency? | O81: Is your firm registered as a non-resident importer with the Canada Revenue Agency? | P81: Votre entreprise est-elle enregistrée auprès de l'Agence du revenu du Canada en tant qu'un importateur non-résident ?
B85: =IF(Intro!$G$24="English",O85,P85) -> If your firm has more than one location, facility or outlet, submit a consolidated response to the questionnaire. | O85: If your firm has more than one location, facility or outlet, submit a consolidated response to the questionnaire. | P85: Si votre entreprise a plus d’un emplacement, d’une installation ou d’un point de vente, transmettez une réponse consolidée au questionnaire.
B86: =IF(Intro!$G$24="English",O86,P86) -> Provide the names and addresses of other locations, facilities, and outlets in Canada on behalf of which your company is responding. | O86: Provide the names and addresses of other locations, facilities, and outlets in Canada on behalf of which your company is responding. | P86: Fournissez les noms et adresses des autres emplacements, installations et points de vente au Canada au nom de laquelle votre entreprise répond.
B93: =IF(Intro!$G$24="English",O93,P93) -> CONTACT INFORMATION OF THE PERSON WHO COMPLETED THIS QUESTIONNAIRE | O93: CONTACT INFORMATION OF THE PERSON WHO COMPLETED THIS QUESTIONNAIRE | P93: COORDONNÉES DE LA PERSONNE QUI A REMPLI LE QUESTIONNAIRE
B95: =IF(Intro!$G$24="English",O95,P95) -> Name | O95: Name | P95: Nom
B97: =IF(Intro!$G$24="English",O97,P97) -> Title | O97: Title | P97: Titre
B99: =IF(Intro!$G$24="English",O99,P99) -> E-mail Address | O99: E-mail Address | P99: Adresse courriel
... B115: =IF(Intro!$G$24="English",O115,P115) -> Telephone | O115: Telephone | P115: Téléphone
B117: Date
B120: =IF(Intro!$G$24="English",O120,P120) -> I understand that checking this box constitutes my legally binding signature. | O120: I understand that checking this box constitutes my legally binding signature. | P120: Je comprends que le fait de cocher cette case constitue ma signature juridiquement contraignante.
B123: =IF(Intro!$G$24="English",O123,P123) -> SUBMITTING THE QUESTIONNAIRE RESPONSE | C123: =UPPER(IF(Intro!$G$24="English",P123,Q123)) -> TRANSMISSION DU QUESTIONNAIRE REMPLI | D123: =UPPER(IF(Intro!$G$24="English",Q123,R123)) | E123: =UPPER(IF(Intro!$G$24="English",R123,S123)) | F123: =UPPER(IF(Intro!$G$24="English",S123,T123)) | H123: =UPPER(IF(Intro!$G$24="English",T123,U123)) | I123: =UPPER(IF(Intro!$G$24="English",U123,V123)) | J123: =UPPER(IF(Intro!$G$24="English",V123,W123)) | K123: =UPPER(IF(Intro!$G$24="English",W123,X123)) | L123: =UPPER(IF(Intro!$G$24="English",X123,Y123)) | O123: SUBMITTING THE QUESTIONNAIRE RESPONSE | P123: TRANSMISSION DU QUESTIONNAIRE REMPLI
B125: =IF(Intro!$G$24="English",O125,P125) -> The completed questionnaire can be submitted using one of the following methods: | O125: The completed questionnaire can be submitted using one of the following methods: | P125: Retournez le questionnaire rempli en utilisant l’une des options suivantes :
...

Sheet Info
O1: hiddenc | P1: hiddenc
B2: PUBLIC | O2: English | P2: Français
B4: =IF(Intro!$G$24="English",O4,P4) -> IMPORTER QUESTIONNAIRE | O4: IMPORTER QUESTIONNAIRE | P4: QUESTIONNAIRE À L'INTENTION DES IMPORTATEURS
B5: =Variables!B2 -> RR-2026-002 & RR-2026-003
B6: =UPPER(IF(Intro!$G$24="English",Variables!B3,Variables!C3)) -> CONCRETE REINFORCING BAR
B8: =IF(Intro!$G$24="English",O8,P8) -> QUESTIONNAIRE OUTLINE | D8: =UPPER(IF(Intro!$G$24="English",P8,Q8)) -> APERÇU DU QUESTIONNAIRE | E8: =UPPER(IF(Intro!$G$24="English",Q8,R8)) | F8: =UPPER(IF(Intro!$G$24="English",R8,S8)) | G8: =UPPER(IF(Intro!$G$24="English",S8,T8)) | H8: =UPPER(IF(Intro!$G$24="English",T8,U8)) | I8: =UPPER(IF(Intro!$G$24="English",U8,V8)) | J8: =UPPER(IF(Intro!$G$24="English",V8,W8)) | K8: =UPPER(IF(Intro!$G$24="English",W8,X8)) | L8: =UPPER(IF(Intro!$G$24="English",X8,Y8)) | O8: QUESTIONNAIRE OUTLINE | P8: APERÇU DU QUESTIONNAIRE
B10: =IF(Intro!$G$24="English",O10,P10) -> This questionnaire is divided into two parts: | O10: This questionnaire is divided into two parts: | P10: Le présent questionnaire est divisé en deux parties :
B12: =IF(Intro!$G$24="English",O12,P12) -> PART I (Blue Tabs) - Information requested in this part is public. Requests to treat any of this information as confidential must be fully justified in writing and accompanied by a redacted version for the public record. | O12: PART I (Blue Tabs) - Information requested in this part is public. Requests to treat any of this information as confidential must be fully justified in writing and accompanied by a redacted version for the public record. | P12: PARTIE I (onglets bleus) - porte sur des renseignements de nature publique. Les demandes de traiter un ou des renseignements comme des renseignements confidentiels doivent être dûment justifiées par écrit et être accompagnées d’une version publique remaniée.
B15: =IF(Intro!$G$24="English",O15,P15) -> PART II (Green Tabs) - Information requested in this part is considered to be confidential in nature and will be treated in accordance with sections 43 to 49 of the Canadian International Trade Tribunal Act, which require that it shall not be made public in such a manner as to be available for the use of any business competitor or rival of the reporting person, firm or corporation. | O15: PART II (Green Tabs) - Information requested in this part is considered to be confidential in nature and will be treated in accordance with sections 43 to 49 of the Canadian International Trade Tribunal Act, which require that it shall not be made public in such a manner as to be available for the use of any business competitor or rival of the reporting person, firm or corporation. | P15: PARTIE II (onglets verts) - Les renseignements de nature confidentielle seront traités conformément aux articles 43 à 49 de la Loi sur le Tribunal canadien du commerce extérieur, qui précisent que ces renseignements ne doivent pas être rendus publics de manière à pouvoir être utilisés par un concurrent de la personne, de l’entreprise ou de la société déclarante.
B19: =IF(Intro!$G$24="English",O19,P19) -> ADDITIONAL PRODUCT INFORMATION | D19: =UPPER(IF(Intro!$G$24="English",P19,Q19)) -> RENSEIGNEMENTS ADDITIONNELS SUR LE PRODUIT | E19: =UPPER(IF(Intro!$G$24="English",Q19,R19)) | F19: =UPPER(IF(Intro!$G$24="English",R19,S19)) | G19: =UPPER(IF(Intro!$G$24="English",S19,T19)) | H19: =UPPER(IF(Intro!$G$24="English",T19,U19)) | I19: =UPPER(IF(Intro!$G$24="English",U19,V19)) | J19: =UPPER(IF(Intro!$G$24="English",V19,W19)) | K19: =UPPER(IF(Intro!$G$24="English",W19,X19)) | L19: =UPPER(IF(Intro!$G$24="English",X19,Y19)) | O19: ADDITIONAL PRODUCT INFORMATION | P19: RENSEIGNEMENTS ADDITIONNELS SUR LE PRODUIT
B21: =IF(Intro!$G$23="English",HYPERLINK(Variables!B17),HYPERLINK(Variables!B17)) -> https://www.cbsa-asfc.gc.ca/sima-lmsi/i-e/rb32020/rb32020-in-eng.html#toc4-2
B22: =IF(Intro!$G$23="English",HYPERLINK(Variables!B18),HYPERLINK(Variables!B18)) -> https://www.cbsa-asfc.gc.ca/sima-lmsi/i-e/rb42020/rb42020-fd-eng.html#toc5-2
B24: =IF(Intro!$G$24="English",O24,P24) -> CUSTOMS TARIFF | D24: =UPPER(IF(Intro!$G$24="English",P24,Q24)) -> TARIF DES DOUANES | E24: =UPPER(IF(Intro!$G$24="English",Q24,R24)) | F24: =UPPER(IF(Intro!$G$24="English",R24,S24)) | G24: =UPPER(IF(Intro!$G$24="English",S24,T24)) | H24: =UPPER(IF(Intro!$G$24="English",T24,U24)) | I24: =UPPER(IF(Intro!$G$24="English",U24,V24)) | J24: =UPPER(IF(Intro!$G$24="English",V24,W24)) | K24: =UPPER(IF(Intro!$G$24="English",W24,X24)) | L24: =UPPER(IF(Intro!$G$24="English",X24,Y24)) | O24: CUSTOMS TARIFF | P24: TARIF DES DOUANES
B26: =IF(Intro!$G$24="English",O26,P26) -> The goods are commonly classified in the Customs Tariff under the following Harmonized Commodity Description and Coding System (HS) numbers: | O26: The goods are commonly classified in the Customs Tariff under the following Harmonized Commodity Description and Coding System (HS) numbers: | P26: Les marchandises sont généralement classées dans le Tarif des douanes sous les numéros suivants du Système harmonisé de désignation et de codification des marchandises (SH) :
D28: =Variables!B20 -> 7213.10.00.11, 7213.10.00.12, 7213.10.00.13, 7213.10.00.90, 7214.20.00.11, 7214.20.00.12, 7214.20.00.13, 7214.20.00.14, 7214.20.00.21, 7214.20.00.22, 7214.20.00.23, 7214.20.00.24, 7214.20.00.31, 7214.20.00.32, 7214.20.00.33, 7214.20.00.34, 7214.20.00.90, 7215.90.00.20, 7215.90.00.30, 7227.90.00.50, 7228.30.00.51, 7228.30.00.52, 7228.30.00.53 | O28: ="Prior to "&Variables!B19&":" -> Prior to Date of change: | P28: ="Avant le "&Variables!C19&" :" -> Avant le Date of change :
B34: =IF(Intro!$G$24="English",O34,P34) -> GLOSSARY | D34: GLOSSAIRE | O34: GLOSSARY | P34: GLOSSAIRE
B35: =IF(Intro!$G$24="English",O35,P35) -> Delivery costs | D35: =IF(Intro!$G$24="English",O36,P36) -> The costs of freight, handling, and insurance to your Canadian warehouse and, where applicable, all import costs such as customs and other duties (including anti-dumping and countervailing duties), brokerage fees and surcharges. | O35: Delivery costs | P35: Coûts de livraison
O36: The costs of freight, handling, and insurance to your Canadian warehouse and, where applicable, all import costs such as customs and other duties (including anti-dumping and countervailing duties), brokerage fees and surcharges. | P36: Les coûts de fret, manutention et assurance à votre entrepôt canadien et, le cas échéant, tous les frais d’importation, comme les droits de douane et autres (y compris les droits antidumping et compensateurs), les frais de courtage et les suppléments.
B38: =IF(Intro!$G$24="English",O38,P38) -> Net delivered purchase value (laid-in cost) | D38: =IF(Intro!$G$24="English",O39,P39) -> The value of your purchases net of all discounts (cash, quantity or deferred), allowances, taxes, rebates and incentives, whether or not shown on the invoice. It includes delivery costs (freight, handling, and insurance) to your Canadian warehouse and, where applicable, all import costs such as customs and other duties (including anti-dumping and countervailing duties), brokerage fees and surcharges. | O38: Net delivered purchase value (laid-in cost) | P38: Valeur d’achat nette rendue (coût de revient)
O39: The value of your purchases net of all discounts (cash, quantity or deferred), allowances, taxes, rebates and incentives, whether or not shown on the invoice. It includes delivery costs (freight, handling, and insurance) to your Canadian warehouse and, where applicable, all import costs such as customs and other duties (including anti-dumping and countervailing duties), brokerage fees and surcharges. | P39: La valeur de tous vos achats après déduction des escomptes au comptant, des remises sur quantité et des escomptes reportés, des rabais, des taxes, des ristournes et des primes, qu’ils soient indiqués ou non sur la facture. Veuillez inclure tous les coûts de livraison (fret, manutention et assurance) à votre entrepôt canadien et, le cas échéant, tous les frais d’importation, comme les droits de douane et autres (y compris les droits antidumping et compensateurs), les frais de courtage et les suppléments.
B43: =IF(Intro!$G$24="English",O43,P43) -> Net delivered selling value | D43: =IF(Intro!$G$24="English",O44,P44) -> The value of your sales net of all discounts (cash, quantity or deferred), allowances, taxes, rebates and incentives, whether or not shown on the invoice. It includes all delivery costs. | O43: Net delivered selling value | P43: Valeur de vente nette rendue
O44: The value of your sales net of all discounts (cash, quantity or deferred), allowances, taxes, rebates and incentives, whether or not shown on the invoice. It includes all delivery costs. | P44: La valeur de vos ventes après déduction des escomptes au comptant, des remises sur quantité et des escomptes reportés, des rabais, des taxes, des ristournes et des primes, qu’ils soient indiqués ou non sur la facture. Incluez le coût de livraison.
B46: =IF(Intro!$G$24="English",O46,P46) -> Related firms | D46: =IF(Intro!$G$24="English",O47,P47) -> Firms that are related to each other in any manner other than through an arm’s length (independent) customer/supplier relationship. For example, firms are associated or related if an officer or director of one firm is an officer or director of the other, if a firm directly or indirectly owns, holds or controls shares of the other firm. | O46: Related firms | P46: Entreprises affiliées
O47: Firms that are related to each other in any manner other than through an arm’s length (independent) customer/supplier relationship. For example, firms are associated or related if an officer or director of one firm is an officer or director of the other, if a firm directly or indirectly owns, holds or controls shares of the other firm. | P47: Des entreprises liées l’une à l’autre de quelque façon que ce soit autre qu’une relation client-fournisseur sans lien de dépendance. Par exemple, des entreprises sont associées ou liées si un cadre ou un directeur de l’une est cadre ou directeur de l’autre, si une entreprise, directement ou indirectement, possède, détient ou contrôle des actions de l’autre entreprise.

Sheet Public
O1: hiddenc | P1: hiddenc
B2: PUBLIC | O2: English | P2: Français
B4: =Info!B4 -> IMPORTER QUESTIONNAIRE
B5: =Info!B5 -> RR-2026-002 & RR-2026-003
B6: =Info!B6 -> CONCRETE REINFORCING BAR
B8: =IF(Intro!$G$24="English",O8,P8) -> The following questions refer to the goods as defined in the product description on the Intro tab. | O8: The following questions refer to the goods as defined in the product description on the Intro tab. | P8: Les questions suivantes font référence aux marchandises comme définies dans la description du produit de l'onglet Intro.
B9: =IF(Intro!$G$24="English",O9,P9) -> Product information and a glossary of terms can be found in the Info tab. | O9: Product information and a glossary of terms can be found in the Info tab. | P9: Des informations sur le produit et un glossaire de termes sont disponibles dans l'onglet Info.
B10: =IF(Intro!$G$24="English",O10,P10) -> Use the AddPub tab if more space is needed. | O10: Use the AddPub tab if more space is needed. | P10: Utilisez l'onglet AddPub si vous avez besoin de plus d'espace.
B12: =IF(Intro!$G$24="English",O12,P12) -> GENERAL FIRM INFORMATION | O12: GENERAL FIRM INFORMATION | P12: INFORMATIONS GÉNÉRALES SUR L'ENTREPRISE
B13: Question 1 | O13: Indicate your firm's trade level with respect to the goods in Canada: | P13: Indiquez le niveau commercial de votre entreprise en ce qui concerne les marchandises au Canada :
B15: =IF(Intro!$G$24="English",O15,P15) -> Select your firm's primary activities with respect to the goods between January 1, 2023 and June 30, 2026 (select only one response): | O15: ="Select your firm's primary activities with respect to the goods between January 1, "&Variables!B6&" and "&Variables!B7&", "&Variables!B8&" (select only one response):" -> Select your firm's primary activities with respect to the goods between January 1, 2023 and June 30, 2026 (select only one response): | P15: ="Sélectionnez l'activité principale de votre entreprise concernant les marchandises entre le 1er janvier "&Variables!C6&" et le "&Variables!C7&" "&Variables!C8&" (sélectionnez une seule réponse) :" -> Sélectionnez l'activité principale de votre entreprise concernant les marchandises entre le 1er janvier 2023 et le 30 juin 2026 (sélectionnez une seule réponse) :
B17: =IF(Intro!$G$24="English",O17,P17) -> Your firm sold the goods, without modification, to members of the public (i.e. you are a retailer). | O17: Your firm sold the goods, without modification, to members of the public (i.e. you are a retailer). | P17: Votre entreprise a vendu les marchandises, sans modification, à des particuliers (c'est-à-dire vous êtes un détaillant).
B18: =IF(Intro!$G$24="English",O18,P18) -> Your firm sold the goods, without modification, to other businesses (i.e. you are a distributor of the goods). | O18: Your firm sold the goods, without modification, to other businesses (i.e. you are a distributor of the goods). | P18: Votre entreprise a vendu les marchandises, sans modification, à d'autres entreprises (c'est-à-dire vous êtes un distributeur des marchandises).
B19: =IF(Intro!$G$24="English",O19,P19) -> Your firm used the goods in the production of a different product which you then sold (i.e. you are an end user of the goods). | O19: Your firm used the goods in the production of a different product which you then sold (i.e. you are an end user of the goods). | P19: Votre entreprise a utilisé les marchandises dans la production d'un produit différent que vous avez ensuite vendu (c'est-à-dire vous êtes un utilisateur final des marchandises).
B21: =IF(Intro!$G$24="English",O21,P21) -> Your firm used the goods for its own purposes and the goods were not sold in any capacity (i.e. you are an end user of the goods). | O21: Your firm used the goods for its own purposes and the goods were not sold in any capacity (i.e. you are an end user of the goods). | P21: Votre entreprise a utilisé les marchandises à ses propres fins et les marchandises n'ont été vendues sous aucune forme (c'est-à-dire vous êtes un utilisateur final des marchandises).
B24: Question 2
B26: =IF(Intro!$G$24="English",O26,P26) -> Provide a brief history of your firm, with particular emphasis on activities regarding the goods. | O26: Provide a brief history of your firm, with particular emphasis on activities regarding the goods. | P26: Donnez un bref historique de votre entreprise, en insistant plus particulièrement sur les activités entourant les marchandises.
B37: Question 3
B39: =IF(Intro!$G$24="English",O39,P39) -> List the names and addresses of any foreign or Canadian firms related to your firm, i.e. firms that your firm is related to in any manner other than through an arm’s length (independent) customer/supplier relationship. For example, firms are associated or related if an officer or director of one firm is an officer or director of the other, if a firm directly or indirectly owns, holds or controls shares of the other firm. For each firm, indicate the nature of your association and its role in the industry (for example: production, export, import, sale, purchase of the goods or supply of direct materials used to produce the goods). | O39: List the names and addresses of any foreign or Canadian firms related to your firm, i.e. firms that your firm is related to in any manner other than through an arm’s length (independent) customer/supplier relationship. For example, firms are associated or related if an officer or director of one firm is an officer or director of the other, if a firm directly or indirectly owns, holds or controls shares of the other firm. For each firm, indicate the nature of your association and its role in the industry (for example: production, export, import, sale, purchase of the goods or supply of direct materials used to produce the goods). | P39: Dressez la liste des dénominations et adresses de toutes les entreprises canadiennes ou étrangères auxquelles votre entreprise est reliée, c'est-à-dire des entreprises avec qui votre entreprise est liée de quelque façon que ce soit autre qu’une relation client-fournisseur sans lien de dépendance. Par exemple, des entreprises sont associées ou liées si un cadre ou un directeur de l’une est cadre ou directeur de l’autre, si une entreprise, directement ou indirectement, possède, détient ou contrôle des actions de l’autre entreprise. Pour chaque entreprise, veuillez indiquer le type d’affiliation et son rôle dans l'industrie (par exemple, la production, l’exportation, l’importation, la vente, l’achat de marchandises ou l’approvisionnement de matières premières pour la production des marchandises).
C45: =IF(Intro!$G$24="English",O47,P47) -> Firm Name | E45: =IF(Intro!$G$24="English",O49,P49) -> Firm Address | G45: =IF(Intro!$G$24="English",O51,P51) -> Nature of association | J45: =IF(Intro!$G$24="English",O53,P53) -> Role in the Industry
B47: 1 | O47: Firm Name | P47: Dénomination sociale de l'entreprise
B49: 2 | O49: Firm Address | P49: Adresse de l'entreprise
B51: 3 | O51: Nature of association | P51: Type d'affiliation
B53: 4 | O53: Role in the Industry | P53: Rôle dans l'industrie
B55: 5
B57: 6
B59: 7
B61: 8
B63: 9
B65: 10
B68: Question 4
A70: A | B70: =IF(Intro!$G$24="English",O70,P70) -> Provide details of any change of majority ownership of your firm since January 1, 2023. | O70: ="Provide details of any change of majority ownership of your firm since January 1, "&Variables!B6&"." -> Provide details of any change of majority ownership of your firm since January 1, 2023. | P70: ="Fournissez des détails sur tout changement dans la propriété majoritaire de votre entreprise depuis le 1er janvier "&Variables!B6&"." -> Fournissez des détails sur tout changement dans la propriété majoritaire de votre entreprise depuis le 1er janvier 2023.
B82: =IF(Intro!$G$24="English",O82,P82) -> PRODUCER INTERACTIONS | O82: PRODUCER INTERACTIONS | P82: INTERACTIONS AVEC LES PRODUCTEURS
B83: Question 5
B85: =IF(Intro!$G$24="English",O85,P85) -> If your firm has purchased the goods from Canadian producers since January 1, 2023, provide the names of the Canadian producers, as well as the specifications of the goods purchased from the Canadian producers. If not, explain why. | O85: ="If your firm has purchased the goods from Canadian producers since January 1, "&Variables!B6&", provide the names of the Canadian producers, as well as the specifications of the goods purchased from the Canadian producers. If not, explain why." -> If your firm has purchased the goods from Canadian producers since January 1, 2023, provide the names of the Canadian producers, as well as the specifications of the goods purchased from the Canadian producers. If not, explain why. | P85: ="Si votre entreprise a acheté des marchandises des producteurs canadiens depuis le 1er janvier "&Variables!B6&", fournissez les noms des producteurs canadiens, ainsi que les spécifications des marchandises achetées auprès des producteurs canadiens. Dans le cas contraire, expliquez pourquoi." -> Si votre entreprise a acheté des marchandises des producteurs canadiens depuis le 1er janvier 2023, fournissez les noms des producteurs canadiens, ainsi que les spécifications des marchandises achetées auprès des producteurs canadiens. Dans le cas contraire, expliquez pourquoi.
B97: Question 6
B99: =IF(Intro!$G$24="English",O99,P99) -> If your firm, as the importer of record, has sold imports of the goods to Canadian producers since January 1, 2023, provide details regarding the specifications of the goods and the countries of origin. | O99: ="If your firm, as the importer of record, has sold imports of the goods to Canadian producers since January 1, "&Variables!B6&", provide details regarding the specifications of the goods and the countries of origin." -> If your firm, as the importer of record, has sold imports of the goods to Canadian producers since January 1, 2023, provide details regarding the specifications of the goods and the countries of origin. | P99: ="Si votre entreprise, en tant qu'importateur officiel, a vendu des importations de marchandises à des producteurs canadiens depuis le 1er janvier "&Variables!B6&", fournissez des détails concernant les spécifications des marchandises et les pays d'origine." -> Si votre entreprise, en tant qu'importateur officiel, a vendu des importations de marchandises à des producteurs canadiens depuis le 1er janvier 2023, fournissez des détails concernant les spécifications des marchandises et les pays d'origine.
B112: IMPORTATION
B113: Question 7
B115: =IF(Intro!$G$24="English",O115,P115) -> Provide details if your firm has changed the product mix of the goods imported since January 1, 2023. | O115: ="Provide details if your firm has changed the product mix of the goods imported since January 1, "&Variables!B6&"." -> Provide details if your firm has changed the product mix of the goods imported since January 1, 2023. | P115: ="Fournissez des détails si votre entreprise a modifié la gamme de marchandises qu'elle importe depuis le 1er janvier "&Variables!B6&"." -> Fournissez des détails si votre entreprise a modifié la gamme de marchandises qu'elle importe depuis le 1er janvier 2023.
...

Sheet AddPub
O1: hiddenc | P1: hiddenc
B2: PUBLIC | O2: English | P2: Français
B4: =Info!B4 -> IMPORTER QUESTIONNAIRE
B5: =Info!B5 -> RR-2026-002 & RR-2026-003
B6: =Info!B6 -> CONCRETE REINFORCING BAR
B8: =UPPER(IF(Intro!$G$24="English",O8,P8)) -> PUBLIC COMMENTS | O8: PUBLIC COMMENTS | P8: COMMENTAIRES PUBLICS
B10: =IF(Intro!$G$24="English",O10,P10) -> Should your firm wish to add any comments related to its responses, submit them here. Be sure to indicate the applicable question number. | O10: Should your firm wish to add any comments related to its responses, submit them here. Be sure to indicate the applicable question number. | P10: Si votre entreprise désire ajouter des commentaires concernant vos réponses, vous les inscrivez ici. Indiquez à quelle question se rapportent vos commentaires.
O11: Tab and Question | P11: Onglet et question
A12: AA | C12: =IF(Intro!$G$24="English",O11,P11) -> Tab and Question | D12: =IF(Intro!$G$24="English",O12,P12) -> Comments | O12: Comments | P12: Commentaires
B13: =IF(Intro!$G$24="English",O13,P13) -> Comment 1 | O13: Comment 1 | P13: Commentaire 1
B23: =IF(Intro!$G$24="English",O23,P23) -> Comment 2 | O23: Comment 2 | P23: Commentaire 2
B33: =IF(Intro!$G$24="English",O33,P33) -> Comment 3 | O33: Comment 3 | P33: Commentaire 3
B43: =IF(Intro!$G$24="English",O43,P43) -> Comment 4 | O43: Comment 4 | P43: Commentaire 4
B53: =IF(Intro!$G$24="English",O53,P53) -> Comment 5 | O53: Comment 5 | P53: Commentaire 5

Sheet Pro
O1: hiddenc | P1: hiddenc
B2: =IF(Intro!$G$24="English",O3,P3) -> PROTECTED | O2: English | P2: Français
O3: PROTECTED | P3: PROTÉGÉ
B4: =Info!B4 -> IMPORTER QUESTIONNAIRE
B5: =Info!B5 -> RR-2026-002 & RR-2026-003
B6: =Info!B6 -> CONCRETE REINFORCING BAR
B8: =Public!B8 -> The following questions refer to the goods as defined in the product description on the Intro tab.
B9: =Public!B9 -> Product information and a glossary of terms can be found in the Info tab.
B10: =IF(Intro!$G$24="English",O10,P10) -> Use the AddPro tab if more space is needed. | O10: Use the AddPro tab if more space is needed. | P10: Utilisez l'onglet AddPro si vous avez besoin de plus d'espace.
B12: =IF(Intro!$G$24="English",O12,P12) -> For the questions in this tab, note the following: | O12: For the questions in this tab, note the following: | P12: Pour les questions de cet onglet, notez ce qui suit :
B13: =IF(Intro!$G$24="English",O13,P13) -> • Report only sales from your firm’s imports. Sales of purchased goods from Canadian producers must be excluded. | O13: • Report only sales from your firm’s imports. Sales of purchased goods from Canadian producers must be excluded. | P13: • Veuillez indiquer seulement les ventes effectuées à partir des importations de votre entreprise. Les ventes de marchandises achetées auprès de producteurs canadiens doivent être exclues.
B15: =IF(Intro!$G$24="English",O15,P15) -> • Report all sales to Canadian and foreign associated firms. | O15: • Report all sales to Canadian and foreign associated firms. | P15: • Déclarez toutes les ventes aux entreprises associées canadiennes et étrangères.
B16: =IF(Intro!$G$24="English",O16,P16) -> • Report all sales as of the date of shipment to the customer or the customer’s warehouse. | O16: • Report all sales as of the date of shipment to the customer or the customer’s warehouse. | P16: • Déclarez toutes les ventes à compter de la date de l’expédition au client ou à son entrepôt.
B17: =IF(Intro!$G$24="English",O17,P17) -> • Report all values in Canadian dollars. | O17: • Report all values in Canadian dollars. | P17: • Déclarez toutes les valeurs en dollars canadiens.
B19: =IF(Intro!$G$24="English",O19,P19) -> SALES | O19: SALES | P19: VENTES
B20: Question 1
B22: =IF(Intro!$G$24="English",O22,P22) -> Describe the method used to value your firm's sales to Canadian or foreign associated firms. | O22: Describe the method used to value your firm's sales to Canadian or foreign associated firms. | P22: Décrivez la méthode utilisée pour déterminer la valeur des ventes de votre entreprise à ses entreprises associées au Canada et/ou à l’étranger.
B23: =IF(Intro!$G$24="English",O23,P23) -> Note - Only complete this question if your firm sold the goods between January 1, 2023, and June 30, 2026. | O23: ="Note - Only complete this question if your firm sold the goods between January 1, "&Variables!B6&", and "&Variables!B7&", "&Variables!B8&"." -> Note - Only complete this question if your firm sold the goods between January 1, 2023, and June 30, 2026. | P23: ="Note - Ne répondez à cette question que si votre entreprise a vendu les marchandises du 1er janvier "&Variables!C6&" au "&Variables!C7& " "&Variables!C8&"." -> Note - Ne répondez à cette question que si votre entreprise a vendu les marchandises du 1er janvier 2023 au 30 juin 2026.
B34: Question 2
B36: =IF(Intro!$G$24="English",O36,P36) -> Explain your firm’s method of calculating the prices of the goods to your customers. Include details related to any terms, discounts, allowances, rebates and incentives, price adjustments or other considerations offered to purchasers since January 1, 2023. If your firm uses price or discount lists, provide copies. Explain whether these pricing practices to your customers changed since January 1, 2023. | O36: ="Explain your firm’s method of calculating the prices of the goods to your customers. Include details related to any terms, discounts, allowances, rebates and incentives, price adjustments or other considerations offered to purchasers since January 1, "&Variables!B6&". If your firm uses price or discount lists, provide copies. Explain whether these pricing practices to your customers changed since January 1, "&Variables!B6&"." -> Explain your firm’s method of calculating the prices of the goods to your customers. Include details related to any terms, discounts, allowances, rebates and incentives, price adjustments or other considerations offered to purchasers since January 1, 2023. If your firm uses price or discount lists, provide copies. Explain whether these pricing practices to your customers changed since January 1, 2023. | P36: ="Expliquez la façon dont votre entreprise calcule les prix des marchandises pour ses clients."&" Donnez les détails au sujet des modalités, rabais, réductions, remises, primes, ajustements de prix et autres mesures offertes aux acheteurs depuis le 1er janvier "&Variables!B6&". Si votre entreprise utilise des listes de prix ou de remises, fournissez-en des copies. Expliquez comment ces pratiques de fixation des prix ont changé depuis le 1er janvier "&Variables!B6&"." -> Expliquez la façon dont votre entreprise calcule les prix des marchandises pour ses clients. Donnez les détails au sujet des modalités, rabais, réductions, remises, primes, ajustements de prix et autres mesures offertes aux acheteurs depuis le 1er janvier 2023. Si votre entreprise utilise des listes de prix ou de remises, fournissez-en des copies. Expliquez comment ces pratiques de fixation des prix ont changé depuis le 1er janvier 2023.
B39: =B23 -> Note - Only complete this question if your firm sold the goods between January 1, 2023, and June 30, 2026.
B51: =IF(Intro!$G$24="English",O51,P51) -> PURCHASES | O51: PURCHASES | P51: ACHATS
B52: Question 3
B54: =IF(Intro!$G$24="English",O54,P54) -> Provide your firm’s strategies and objectives for the next two years with respect to the purchases of the goods made in Canada. Provide the rationale and assumptions underlying these strategies and objectives. | O54: Provide your firm’s strategies and objectives for the next two years with respect to the purchases of the goods made in Canada. Provide the rationale and assumptions underlying these strategies and objectives. | P54: Fournissez les stratégies et les objectifs de votre entreprise pour les deux prochaines années en ce qui concerne les achats de marchandises fabriquées au Canada. Fournir la justification et les hypothèses qui sous-tendent ces stratégies et objectifs.
B66: Question 4
B68: =IF(Intro!$G$24="English",O68,P68) -> Provide your firm’s strategies and objectives for the next two years with respect to imports and sales of imports of the goods. Provide the rationale and assumptions underlying these strategies and objectives. | O68: Provide your firm’s strategies and objectives for the next two years with respect to imports and sales of imports of the goods. Provide the rationale and assumptions underlying these strategies and objectives. | P68: Fournissez les stratégies et les objectifs de votre entreprise pour les deux prochaines années en ce qui concerne les importations et les ventes de marchandises importées. Fournir la justification et les hypothèses qui sous-tendent ces stratégies et objectifs.

Sheet Begin

Sheet DZA
O1: hiddenc | P1: hiddenc
B2: =Pro!B2 -> PROTECTED | O2: English | P2: Français
B4: =Info!B4 -> IMPORTER QUESTIONNAIRE
B5: =Info!B5 -> RR-2026-002 & RR-2026-003
B6: =Info!B6 -> CONCRETE REINFORCING BAR
B8: =Pro!B8 -> The following questions refer to the goods as defined in the product description on the Intro tab.
B9: =Pro!B9 -> Product information and a glossary of terms can be found in the Info tab.
B10: =Pro!B10 -> Use the AddPro tab if more space is needed.
B12: =Pro!B12 -> For the questions in this tab, note the following:
B13: =Pro!B13 -> • Report only sales from your firm’s imports. Sales of purchased goods from Canadian producers must be excluded.
B15: =Pro!B15 -> • Report all sales to Canadian and foreign associated firms.
B16: =Pro!B16 -> • Report all sales as of the date of shipment to the customer or the customer’s warehouse.
B17: =Pro!B17 -> • Report all values in Canadian dollars.
B18: =IF(Intro!$G$24="English",O18,P18) -> • If your firm is an end user or a fabricator, your firm does not need to report sales of imports or inventories of imports. | O18: • If your firm is an end user or a fabricator, your firm does not need to report sales of imports or inventories of imports. | P18: • Si votre entreprise est un utilisateur final ou un transformateur, elle n’a pas besoin de déclarer ses ventes d’importations ou ses stocks d’importations.
B20: =IF(Intro!$G$24="English",O20,P20) -> IMPORTS AND SALES | O20: IMPORTS AND SALES | P20: IMPORTATIONS ET VENTES
B21: Question 1
O22: *In tab name, use standard ISO 3-letter country codes to reduce length of tab titles RR: Imp-Subject → Imp-CHN, Imp-TWN
B23: =IF(Intro!$G$24="English",O23,P23) -> Provide your firm's imports and sales of imports of the goods originating in: | G23: =IF(Intro!$G$24="English",Variables!B30,Variables!C30) -> Algeria | O23: Provide your firm's imports and sales of imports of the goods originating in: | P23: Indiquez les importations et les ventes de marchandises de votre entreprise originaires de :
G27: =Variables!$B$6 -> 2023 | H27: =G27+1 -> 2024 | I27: =H27+1 -> 2025 | J27: =IF(Intro!$G$24="English",Variables!B9,Variables!C9) -> Jan-Jun 2025 | K27: =IF(Intro!$G$24="English",Variables!B10,Variables!C10) -> Jan-Jun 2026
O28: Imports in Canada | P28: Importations au Canada
B29: =IF(Intro!$G$24="English",O29,P29) -> Imports | O29: Imports | P29: Importations
B30: =IF(Intro!$G$24="English",O29,P29) -> Imports | D30: =IF(Intro!$G$24="English",Variables!B23,Variables!C23) -> Tonnes
D31: =IF(Intro!$G$24="English",O31,P31) -> net delivered purchase value (CAD) | O31: net delivered purchase value (CAD) | P31: valeur d'achat nette rendue (CAD)
D32: =IF(Intro!$G$24="English","$ / "&Variables!B24,"$ / "&Variables!C24) -> $ / Tonne | G32: =IF(G30=0,"-",G31/G30) -> - | H32: =IF(H30=0,"-",H31/H30) -> - | I32: =IF(I30=0,"-",I31/I30) -> - | J32: =IF(J30=0,"-",J31/J30) -> - | K32: =IF(K30=0,"-",K31/K30) -> - | O32: *Adjust decimal points in tables as needed.
B33: =IF(Intro!$G$24="English",O33,P33) -> Sales of imports in Canada | O33: Sales of imports in Canada | P33: Ventes d'importations au Canada
B34: =IF(Intro!$G$24="English",O35,P35) -> Sales to distributors / service centres in Canada | D34: =D30 -> Tonnes
D35: =IF(Intro!$G$24="English",O36,P36) -> net delivered selling value (CAD) | O35: ="Sales to "&Variables!$B$26&" in Canada" -> Sales to distributors / service centres in Canada | P35: ="Ventes aux "&Variables!$C$26&" au Canada" -> Ventes aux distributeurs / centres de services au Canada
D36: =D32 -> $ / Tonne | G36: =IF(G34=0,"-",G35/G34) -> - | H36: =IF(H34=0,"-",H35/H34) -> - | I36: =IF(I34=0,"-",I35/I34) -> - | J36: =IF(J34=0,"-",J35/J34) -> - | K36: =IF(K34=0,"-",K35/K34) -> - | O36: net delivered selling value (CAD) | P36: valeur de vente nette rendue (CAD)
B37: =IF(Intro!$G$24="English",O37,P37) -> Sales to end users / fabricators in Canada | D37: =D30 -> Tonnes | O37: ="Sales to "&Variables!$B$27&" in Canada" -> Sales to end users / fabricators in Canada | P37: ="Ventes aux "&Variables!$C$27&" au Canada" -> Ventes aux utilisateurs finals / transformateurs au Canada
D38: =D35 -> net delivered selling value (CAD)
D39: =D32 -> $ / Tonne | G39: =IF(G37=0,"-",G38/G37) -> - | H39: =IF(H37=0,"-",H38/H37) -> - | I39: =IF(I37=0,"-",I38/I37) -> - | J39: =IF(J37=0,"-",J38/J37) -> - | K39: =IF(K37=0,"-",K38/K37) -> -
B40: =IF(Intro!$G$24="English",O40,P40) -> Total sales of imports in Canada | D40: =D30 -> Tonnes | G40: =G34+G37 -> 0 | H40: =H34+H37 -> 0 | I40: =I34+I37 -> 0 | J40: =J34+J37 -> 0 | K40: =K34+K37 -> 0 | O40: Total sales of imports in Canada | P40: Ventes totales d'importations au Canada
D41: =D38 -> net delivered selling value (CAD) | G41: =G35+G38 -> 0 | H41: =H35+H38 -> 0 | I41: =I35+I38 -> 0 | J41: =J35+J38 -> 0 | K41: =K35+K38 -> 0
D42: =D32 -> $ / Tonne | G42: =IF(G40=0,"-",G41/G40) -> - | H42: =IF(H40=0,"-",H41/H40) -> - | I42: =IF(I40=0,"-",I41/I40) -> - | J42: =IF(J40=0,"-",J41/J40) -> - | K42: =IF(K40=0,"-",K41/K40) -> -
B44: Question 2
B46: =IF(Intro!$G$24="English",O46,P46) -> Provide the average percentage of net delivered selling values that is represented by delivery costs. | O46: Provide the average percentage of net delivered selling values that is represented by delivery costs. | P46: Indiquez le pourcentage moyen des valeurs de vente nettes livrées qui représente les frais de livraison.
B47: =Pro!B23 -> Note - Only complete this question if your firm sold the goods between January 1, 2023, and June 30, 2026.
D49: =Variables!$B$6 -> 2023 | E49: =D49+1 -> 2024 | F49: =E49+1 -> 2025 | G49: =IF(Intro!$G$24="English",Variables!B9,Variables!C9) -> Jan-Jun 2025 | H49: =IF(Intro!$G$24="English",Variables!B10,Variables!C10) -> Jan-Jun 2026
C51: =IF(Intro!$G$24="English",O51,P51) -> Delivery Cost (%) | O51: Delivery Cost (%) | P51: Coût de livraison (%)
B53: =IF(Intro!$G$24="English",O53,P53) -> If the percentages changed between periods, please provide the reason. | O53: If the percentages changed between periods, please provide the reason. | P53: Si les pourcentages ont changé d'une période à l'autre, veuillez en indiquer la raison.

Sheet EGY
O1: hiddenc | P1: hiddenc
B2: =Pro!B2 -> PROTECTED | O2: English | P2: Français
B4: =Info!B4 -> IMPORTER QUESTIONNAIRE
B5: =Info!B5 -> RR-2026-002 & RR-2026-003
B6: =Info!B6 -> CONCRETE REINFORCING BAR
B8: =Pro!B8 -> The following questions refer to the goods as defined in the product description on the Intro tab.
B9: =Pro!B9 -> Product information and a glossary of terms can be found in the Info tab.
B10: =Pro!B10 -> Use the AddPro tab if more space is needed.
B12: =Pro!B12 -> For the questions in this tab, note the following:
B13: =Pro!B13 -> • Report only sales from your firm’s imports. Sales of purchased goods from Canadian producers must be excluded.
B15: =Pro!B15 -> • Report all sales to Canadian and foreign associated firms.
B16: =Pro!B16 -> • Report all sales as of the date of shipment to the customer or the customer’s warehouse.
B17: =Pro!B17 -> • Report all values in Canadian dollars.
B18: =IF(Intro!$G$24="English",O18,P18) -> • If your firm is an end user or a fabricator, your firm does not need to report sales of imports or inventories of imports. | O18: • If your firm is an end user or a fabricator, your firm does not need to report sales of imports or inventories of imports. | P18: • Si votre entreprise est un utilisateur final ou un transformateur, elle n’a pas besoin de déclarer ses ventes d’importations ou ses stocks d’importations.
B20: =IF(Intro!$G$24="English",O20,P20) -> IMPORTS AND SALES | O20: IMPORTS AND SALES | P20: IMPORTATIONS ET VENTES
B21: Question 1
O22: *In tab name, use standard ISO 3-letter country codes to reduce length of tab titles RR: Imp-Subject → Imp-CHN, Imp-TWN
B23: =IF(Intro!$G$24="English",O23,P23) -> Provide your firm's imports and sales of imports of the goods originating in: | G23: =IF(Intro!$G$24="English",Variables!B33,Variables!C33) -> Egypt | O23: Provide your firm's imports and sales of imports of the goods originating in: | P23: Indiquez les importations et les ventes de marchandises de votre entreprise originaires de :
G27: =Variables!$B$6 -> 2023 | H27: =G27+1 -> 2024 | I27: =H27+1 -> 2025 | J27: =IF(Intro!$G$24="English",Variables!B9,Variables!C9) -> Jan-Jun 2025 | K27: =IF(Intro!$G$24="English",Variables!B10,Variables!C10) -> Jan-Jun 2026
O28: Imports in Canada | P28: Importations au Canada
B29: =IF(Intro!$G$24="English",O29,P29) -> Imports | O29: Imports | P29: Importations
B30: =IF(Intro!$G$24="English",O29,P29) -> Imports | D30: =IF(Intro!$G$24="English",Variables!B23,Variables!C23) -> Tonnes
D31: =IF(Intro!$G$24="English",O31,P31) -> net delivered purchase value (CAD) | O31: net delivered purchase value (CAD) | P31: valeur d'achat nette rendue (CAD)
D32: =IF(Intro!$G$24="English","$ / "&Variables!B24,"$ / "&Variables!C24) -> $ / Tonne | G32: =IF(G30=0,"-",G31/G30) -> - | H32: =IF(H30=0,"-",H31/H30) -> - | I32: =IF(I30=0,"-",I31/I30) -> - | J32: =IF(J30=0,"-",J31/J30) -> - | K32: =IF(K30=0,"-",K31/K30) -> - | O32: *Adjust decimal points in tables as needed.
B33: =IF(Intro!$G$24="English",O33,P33) -> Sales of imports in Canada | O33: Sales of imports in Canada | P33: Ventes d'importations au Canada
B34: =IF(Intro!$G$24="English",O35,P35) -> Sales to distributors / service centres in Canada | D34: =D30 -> Tonnes
D35: =IF(Intro!$G$24="English",O36,P36) -> net delivered selling value (CAD) | O35: ="Sales to "&Variables!$B$26&" in Canada" -> Sales to distributors / service centres in Canada | P35: ="Ventes aux "&Variables!$C$26&" au Canada" -> Ventes aux distributeurs / centres de services au Canada
D36: =D32 -> $ / Tonne | G36: =IF(G34=0,"-",G35/G34) -> - | H36: =IF(H34=0,"-",H35/H34) -> - | I36: =IF(I34=0,"-",I35/I34) -> - | J36: =IF(J34=0,"-",J35/J34) -> - | K36: =IF(K34=0,"-",K35/K34) -> - | O36: net delivered selling value (CAD) | P36: valeur de vente nette rendue (CAD)
B37: =IF(Intro!$G$24="English",O37,P37) -> Sales to end users / fabricators in Canada | D37: =D30 -> Tonnes | O37: ="Sales to "&Variables!$B$27&" in Canada" -> Sales to end users / fabricators in Canada | P37: ="Ventes aux "&Variables!$C$27&" au Canada" -> Ventes aux utilisateurs finals / transformateurs au Canada
D38: =D35 -> net delivered selling value (CAD)
D39: =D32 -> $ / Tonne | G39: =IF(G37=0,"-",G38/G37) -> - | H39: =IF(H37=0,"-",H38/H37) -> - | I39: =IF(I37=0,"-",I38/I37) -> - | J39: =IF(J37=0,"-",J38/J37) -> - | K39: =IF(K37=0,"-",K38/K37) -> -
