Workbook
Name assocfirms: #REF!
Name assofirm: #REF!
Name cogm: #REF!
Name cogs: #REF!
Name demp: #REF!
Name fexp: #REF!
Name gsa: #REF!
Name iemp: #REF!
Name ndsv: #REF!
Name nsv: #REF!
Name POR: #REF!
Name ppc: #REF!
Name quest8: AddPro!#REF!
Name quest8: AddPub!#REF!
Name quest8: Confirm!#REF!
Name quest8: Info!#REF!
Name quest8: Intro!#REF!
Name quest8: 'Pro 1'!#REF!
Name quest8: 'Pro 2'!#REF!
Name quest8: Public!#REF!
Name quest8: #REF!

Sheet Variables
A1: Variable | B1: English | C1: French | F1: Data Validation comments
A2: Case Number | B2: NQ-2026-006 | C2: =B2 -> NQ-2026-006 | F2: 1000 character limit | limite de 1000 caractères
A3: The Goods | B3: Wheat Gluten | C3: Gluten de blé | F3: Maximum length reached. Please use the AddPub tab to add further info. | La limite maximale de caractères est atteinte. SVP utiliser l'onglet AddPub pour ajouter plus d'information.
A4: Type | B4: dumping | C4: le dumping | F4: Maximum length reached. Please use the AddPro tab to add further info. | La limite maximale de caractères est atteinte. SVP utiliser l'onglet AddPro pour ajouter plus d'information.
A5: Subject Countries (incl. French pronouns) | B5: Italy, Poland and the UK | C5: Italie, de Pologne et du R.U
A6: First Year of POI | B6: 2023 | C6: =B6 -> 2023 | F6: Important notes for formatting
A7: Last Day of POI | B7: June 30 | C7: 30 juin | F7: When adding or modifying columns, please ensure the total of all column widths in a tab equals 1760 pixels to allow for consistent scaling when exported to PDF.
A8: Last Year of POI | B8: 2026 | C8: =B8 -> 2026 | F8: i.e. columns B-L should be 160 pixels each.
A9: Int period 1 | B9: Jan-Jun 2025 | C9: janv.-juin 2025 | F9: Insert and merge rows where needed to expand height of text boxes.
A10: Int period 2 | B10: Jan-Jun 2026 | C10: janv.-juin 2026
A11: Due Date | B11: October 9, 2026 | C11: 9 octobre 2026
A13: Analyst 1 | B13: Joseph Long | C13: Joseph.Long@tribunal.gc.ca | D13: (343) 597-3847
A14: Analyst 2 | B14: François Thivierge | C14: Francois.Thivierge@tribunal.gc.ca | D14: (343) 550-4453
A16: Product Defn | B16: Wheat gluten, whether or not blended with wheat flour, salt or any other substance, with a minimum wheat protein content of 40% by weight on a dry basis calculated using a Jones Factor of 5.7, but excluding (i) devitalized wheat gluten; (ii) hydrolyzed wheat gluten; (iii) wheat protein isolates; and (iv) organic wheat gluten that is certified organic in accordance with and otherwise meets the requirements of the Food and Drugs Act, R.S.C., 1985, c. F-27, and regulations made thereunder, and the Safe Food for Canadians Act, S.C. 2012, c. 24, and regulations made thereunder including the Safe Food for Canadians Regulations, S.O.R./2018 108, all of which as may be amended or replaced from time to time (the subject goods). For greater certainty, the subject goods include but are not limited to vital wheat gluten as defined by the World Health Organization’s Codex Standard 163-1987, Rev. 1-2001 (“Standard for Wheat Protein Products Including Wheat Gluten”) | C16: Gluten de blé, mélangé ou non avec de la farine de blé, du sel ou toute autre substance, ayant une teneur minimale en protéines de blé de 40 % en poids sur une base sèche, calculée selon un facteur de Jones de 5.7, mais excluant (i) le gluten de blé dénaturé; (ii) le gluten de blé hydrolysé; (iii) les isolats de protéines de blé; et (iv) le gluten de blé certifié biologique, conformément à la Loi sur les aliments et drogues (L.R.C. 1985, ch. F-27) et à ses règlements d’application ainsi qu’à la Loi sur la salubrité des aliments au Canada (L.C. 2012, ch. 24) et à ses règlements d’application, y compris le Règlement sur la salubrité des aliments au Canada (DORS/2018-108), et répondant autrement aux exigences de ces lois et règlements, qui peuvent être périodiquement modifiés ou remplacés. Il est entendu que les marchandises en cause comprennent notamment le gluten de blé élastique tel que défini par la norme 163-1987 du Codex de l’Organisation mondiale de la Santé, Rév. 1-2001 (« Norme pour les produits à base de blé incluant le gluten de blé »).
A17: Additional Product Info | B17: https://www.cbsa-asfc.gc.ca/sima-lmsi/mif-mev/mif-mev-stats-eng.html#wg | C17: https://www.cbsa-asfc.gc.ca/sima-lmsi/mif-mev/mif-mev-stats-fra.html#wg
A19: HS Code defn change date | B19: Questionnaires responses will be used in the event there is a 2nd Wheat Gluten injury inquiry base on the complaint received on such and such date concerning wheat gluten originating or imported from such and such countries. To avoid having to complete a 2nd questionnaire at that time, there is an authorization box above to confirm that the response to this questionnaire can be use in this potential injury inquiry should it occur. Note providing authorization, does not preclude the Tribunal from asking subsequent questions of this questionnaire response at the time of the potential injury inquiry. | C19: Les réponses à ce questionnaire seront utilisées en cas de deuxième enquête pour préjudice lié au gluten de blé, suite à la plainte reçue à telle date concernant du gluten de blé originaire ou importé de tels pays. Afin d'éviter d'avoir à remplir un deuxième questionnaire à ce moment-là, une case d'autorisation est prévue ci-dessus pour confirmer que les réponses à ce questionnaire peuvent être utilisées dans le cadre de cette éventuelle enquête. Veuillez noter que l'autorisation accordée n'empêche pas le Tribunal de poser d'autres questions relatives à ces réponses lors de l'enquête.
A20: HS Codes before change | B20: For more information about the 2nd Wheat Gluten case please see: | C20: Pour plus d'informations sur le deuxième cas de gluten de blé, veuillez consulter :
A21: HS Codes after change | B21: https://decisions.citt-tcce.gc.ca/citt-tcce/ra/en/item/18694/index.do | C21: https://decisions.citt-tcce.gc.ca/citt-tcce/ra/fr/item/18694/index.do
B22: 1109.00.10.00 1109.00.20.00 | C22: =+B22 -> 1109.00.10.00 1109.00.20.00
A23: Unit of measure (plural) | B23: Tonnes | C23: Tonnes
A24: Unit of measure (singular) | B24: Tonne | C24: Tonne
A26: Drop down lists
A27: Intro, Confirm | B27: Yes | C27: Oui | D27: =IF(Intro!$G$21="English",B27,C27) -> Oui
B28: No | C28: Non | D28: =IF(Intro!$G$21="English",B28,C28) -> Non

Sheet Intro
O1: hiddenc | P1: hiddenc
B2: PUBLIC | O2: English | P2: Français
B4: FOREIGN PRODUCER QUESTIONNAIRE | QUESTIONNAIRE À L'INTENTION DES PRODUCTEURS ÉTRANGERS
B5: =Variables!B2 -> NQ-2026-006
B6: =UPPER(Variables!B3&" | "&Variables!C3) -> WHEAT GLUTEN | GLUTEN DE BLÉ
B8: INTRODUCTION
O9: SVP accorder ces mots : "défini/définis/définie/définies"; "originaire/originaires"; "exporté/exportés/exportée/exportées" selon le(s) mot(s) utilisé(s) pour décrire les biens couverts par ce NQ (soit avec "les marchandises" (féminin pluriel) ou avec la définition de ces marchandises)
B10: ="The Canadian International Trade Tribunal (the Tribunal) has commenced an inquiry concerning the "&Variables!B4&" of "&Variables!B3&" I countries (as defined below) originating in or exported from "&Variables!B5&". Your firm's knowledge and experience would aid the Tribunal in the proper conduct of its inquiry by helping it better understand the Canadian market for "&Variables!B3&". The Tribunal therefore requests a response to this questionnaire from your firm." -> The Canadian International Trade Tribunal (the Tribunal) has commenced an inquiry concerning the dumping of Wheat Gluten I countries (as defined below) originating in or exported from Italy, Poland and the UK. Your firm's knowledge and experience would aid the Tribunal in the proper conduct of its inquiry by helping it better understand the Canadian market for Wheat Gluten . The Tribunal therefore requests a response to this questionnaire from your firm. | H10: ="Le Tribunal canadien du commerce extérieur (le Tribunal) a ouvert une enquête concernant "&Variables!C4&" de pays "&Variables!C3&" I (telles que définies ci-dessous) originaires ou exporté d'"&Variables!C5&". Les connaissances et l'expérience de votre entreprise aideraient le Tribunal à mener correctement son enquête en lui permettant de mieux comprendre le marché canadien de "&Variables!C3&". Le Tribunal demande donc à votre entreprise de répondre à ce questionnaire." -> Le Tribunal canadien du commerce extérieur (le Tribunal) a ouvert une enquête concernant le dumping de pays Gluten de blé I (telles que définies ci-dessous) originaires ou exporté d'Italie, de Pologne et du R.U. Les connaissances et l'expérience de votre entreprise aideraient le Tribunal à mener correctement son enquête en lui permettant de mieux comprendre le marché canadien de Gluten de blé. Le Tribunal demande donc à votre entreprise de répondre à ce questionnaire.
B19: LANGUAGE PREFERENCE | PRÉFÉRENCE LINGUISTIQUE
B21: In which language would you prefer to complete this questionnaire? | G21: Français | H21: Dans quelle langue préférez-vous remplir ce questionnaire?
B25: =IF(Intro!$G$21="English",O25,P25) -> LA DÉFINITION "DES MARCHANDISES" | C25: =UPPER(IF(Intro!$G$21="English",P25,Q25)) | D25: =UPPER(IF(Intro!$G$21="English",Q25,R25)) | E25: =UPPER(IF(Intro!$G$21="English",R25,S25)) | G25: =UPPER(IF(Intro!$G$21="English",S25,T25)) | H25: =UPPER(IF(Intro!$G$21="English",T25,U25)) | I25: =UPPER(IF(Intro!$G$21="English",U25,V25)) | J25: =UPPER(IF(Intro!$G$21="English",V25,W25)) | K25: =UPPER(IF(Intro!$G$21="English",W25,X25)) | L25: =UPPER(IF(Intro!$G$21="English",X25,Y25)) | O25: DEFINITION OF "THE GOODS" | P25: LA DÉFINITION "DES MARCHANDISES"
B27: =IF(Intro!$G$21="English",O27,P27) -> Les références aux « marchandises » dans ce questionnaire font référence à : | O27: References to "the goods" in this questionnaire refer to: | P27: Les références aux « marchandises » dans ce questionnaire font référence à :
C29: =IF(Intro!$G$21="English",Variables!B16,Variables!C16) -> Gluten de blé, mélangé ou non avec de la farine de blé, du sel ou toute autre substance, ayant une teneur minimale en protéines de blé de 40 % en poids sur une base sèche, calculée selon un facteur de Jones de 5.7, mais excluant (i) le gluten de blé dénaturé; (ii) le gluten de blé hydrolysé; (iii) les isolats de protéines de blé; et (iv) le gluten de blé certifié biologique, conformément à la Loi sur les aliments et drogues (L.R.C. 1985, ch. F-27) et à ses règlements d’application ainsi qu’à la Loi sur la salubrité des aliments au Canada (L.C. 2012, ch. 24) et à ses règlements d’application, y compris le Règlement sur la salubrité des aliments au Canada (DORS/2018-108), et répondant autrement aux exigences de ces lois et règlements, qui peuvent être périodiquement modifiés ou remplacés. Il est entendu que les marchandises en cause comprennent notamment le gluten de blé élastique tel que défini par la norme 163-1987 du Codex de l’Organisation mondiale de la Santé, Rév. 1-2001 (« Norme pour les produits à base de blé incluant le gluten de blé »).
B35: =IF(Intro!$G$21="English",O35,P35) -> Pour obtenir des renseignements supplémentaires sur le produit, tel que les Description harmonisées des produits, veuillez consulter le lien suivant: | O35: For additionnal information, including Harmonized Commodity Descriptions, please see link below: | P35: Pour obtenir des renseignements supplémentaires sur le produit, tel que les Description harmonisées des produits, veuillez consulter le lien suivant:
C37: =IF(Intro!$G$21="English",HYPERLINK(Variables!B17),HYPERLINK(Variables!C17)) -> https://www.cbsa-asfc.gc.ca/sima-lmsi/mif-mev/mif-mev-stats-fra.html#wg
B39: =IF(Intro!$G$21="English",O39,P39) -> Les marchandises sont généralement classées dans le Tarif des douanes sous les numéros suivants du Système harmonisé de désignation et de codification des marchandises (SH) : | O39: The goods are commonly classified in the Customs Tariff under the following Harmonized Commodity Description and Coding System (HS) numbers: | P39: Les marchandises sont généralement classées dans le Tarif des douanes sous les numéros suivants du Système harmonisé de désignation et de codification des marchandises (SH) :
C41: =+Variables!B22 -> 1109.00.10.00 1109.00.20.00
B47: =IF(Intro!$G$21="English",O47,P47) -> DEVEZ-VOUS REMPLIR CE QUESTIONNAIRE? | O47: DO YOU NEED TO COMPLETE THIS QUESTIONNAIRE? | P47: DEVEZ-VOUS REMPLIR CE QUESTIONNAIRE?
B49: =IF(Intro!$G$21="English",O49,P49) -> Votre entreprise a-t-elle produit les marchandises à tout moment depuis le 1er janvier 2023? | O49: ="Has your firm produced the goods at any time since January 1, "&Variables!B6&"?" -> Has your firm produced the goods at any time since January 1, 2023? | P49: ="Votre entreprise a-t-elle produit les marchandises à tout moment depuis le 1er janvier "&Variables!B6&"?" -> Votre entreprise a-t-elle produit les marchandises à tout moment depuis le 1er janvier 2023?
O50: Select Yes or No | P50: Sélectionnez oui ou non
B51: =IF(Intro!$G$21="English",O50,P50) -> Sélectionnez oui ou non | E51: =IF(D51="Yes",O51,IF(D51="Oui",P51,IF(D51="No",O52,IF(D51="Non",P52,"")))) | O51: ="Complete all tabs in this questionnaire and submit it by "&Variables!B11&"." -> Complete all tabs in this questionnaire and submit it by October 9, 2026. | P51: ="Remplissez tous les onglets de ce questionnaire et retournez-le avant le "&Variables!C11&"." -> Remplissez tous les onglets de ce questionnaire et retournez-le avant le 9 octobre 2026.
O52: ="Complete this tab only and submit it by "&Variables!B11&"." -> Complete this tab only and submit it by October 9, 2026. | P52: ="Remplissez cet onglet uniquement et soumettez-le avant le "&Variables!C11&"." -> Remplissez cet onglet uniquement et soumettez-le avant le 9 octobre 2026.
B55: =IF(Intro!$G$21="English",O55,P55) -> DATE D'ÉCHÉANCE DU QUESTIONNAIRE | O55: QUESTIONNAIRE DUE DATE | P55: DATE D'ÉCHÉANCE DU QUESTIONNAIRE
C57: =IF(Intro!$G$21="English",O57,P57) -> 9 octobre 2026 | O57: =Variables!B11 -> October 9, 2026 | P57: =Variables!C11 -> 9 octobre 2026
B61: =IF(Intro!$G$21="English",O61,P61) -> RENSEIGNEMENTS SUR L’ENTREPRISE | O61: FIRM INFORMATION | P61: RENSEIGNEMENTS SUR L’ENTREPRISE
B63: =IF(Intro!$G$21="English",O63,P63) -> Dénomination sociale (en français et en anglais, le cas échéant) | O63: Firm Name (In English and French, if applicable) | P63: Dénomination sociale (en français et en anglais, le cas échéant)
B65: =IF(Intro!$G$21="English",O65,P65) -> Adresse de l'entreprise | O65: Firm Address | P65: Adresse de l'entreprise
B67: =IF(Intro!$G$21="English",O67,P67) -> Adresse du site Web | O67: Website Address | P67: Adresse du site Web
B70: =IF(Intro!$G$21="English",O70,P70) -> Si votre entreprise a plus d’un emplacement, d’une installation ou d’un point de vente, transmettez une réponse consolidée au questionnaire. | O70: If your firm has more than one location, facility or outlet, submit a consolidated response to the questionnaire. | P70: Si votre entreprise a plus d’un emplacement, d’une installation ou d’un point de vente, transmettez une réponse consolidée au questionnaire.
B71: =IF(Intro!$G$21="English",O71,P71) -> Fournissez les noms et adresses des autres emplacements, installations et points de vente au Canada au nom de laquelle votre entreprise répond. | O71: Provide the names and addresses of other locations, facilities, and outlets in Canada on behalf of which your company is responding. | P71: Fournissez les noms et adresses des autres emplacements, installations et points de vente au Canada au nom de laquelle votre entreprise répond.
B83: =IF(Intro!$G$21="English",O83,P83) -> COORDONNÉES DE LA PERSONNE QUI A REMPLI LE QUESTIONNAIRE | O83: CONTACT INFORMATION OF THE PERSON WHO COMPLETED THIS QUESTIONNAIRE | P83: COORDONNÉES DE LA PERSONNE QUI A REMPLI LE QUESTIONNAIRE
B85: =IF(Intro!$G$21="English",O85,P85) -> Nom | O85: Name | P85: Nom
B87: =IF(Intro!$G$21="English",O87,P87) -> Titre | O87: Title | P87: Titre
B89: =IF(Intro!$G$21="English",O89,P89) -> Adresse courriel | O89: E-mail Address | P89: Adresse courriel
B91: =IF(Intro!$G$21="English",O91,P91) -> Téléphone | O91: Telephone | P91: Téléphone
B94: =IF(Intro!$G$21="English",O94,P94) -> ATTESTATION | O94: CERTIFICATION | P94: ATTESTATION
... B104: =IF(Intro!$G$21="English",O104,P104) -> Téléphone | O104: Telephone | P104: Téléphone
B106: Date
B109: =IF(Intro!$G$21="English",O109,P109) -> Je comprends que le fait de cocher cette case constitue ma signature juridiquement contraignante. | O109: I understand that checking this box constitutes my legally binding signature. | P109: Je comprends que le fait de cocher cette case constitue ma signature juridiquement contraignante.
B112: =UPPER(IF(Intro!$G$21="English",O112,P112)) -> TRANSMISSION DU QUESTIONNAIRE REMPLI | C112: =UPPER(IF(Intro!$G$21="English",P112,Q112)) | D112: =UPPER(IF(Intro!$G$21="English",Q112,R112)) | E112: =UPPER(IF(Intro!$G$21="English",R112,S112)) | G112: =UPPER(IF(Intro!$G$21="English",S112,T112)) | H112: =UPPER(IF(Intro!$G$21="English",T112,U112)) | I112: =UPPER(IF(Intro!$G$21="English",U112,V112)) | J112: =UPPER(IF(Intro!$G$21="English",V112,W112)) | K112: =UPPER(IF(Intro!$G$21="English",W112,X112)) | L112: =UPPER(IF(Intro!$G$21="English",X112,Y112)) | O112: SUBMITTING THE QUESTIONNAIRE RESPONSE | P112: TRANSMISSION DU QUESTIONNAIRE REMPLI
B114: =IF(Intro!$G$21="English",O114,P114) -> Veuillez retourner le questionnaire rempli en utilisant l’une des options suivantes : | O114: The completed questionnaire can be submitted using one of the following methods: | P114: Veuillez retourner le questionnaire rempli en utilisant l’une des options suivantes :
B115: =IF($G$21="English",HYPERLINK("https://e-filing-depot-electronique.citt-tcce.gc.ca/submitNonRegisteredUser-eng.aspx","1. Secure E-filing service;"),IF($G$21="Français",HYPERLINK("https://e-filing-depot-electronique.citt-tcce.gc.ca/submitNonRegisteredUser-fra.aspx?","1. Service sécurisé de dépôt électronique;"),"")) -> 1. Service sécurisé de dépôt électronique;
B116: =IF(Intro!$G$21="English",O116,P116) -> Lorsque vous faites parvenir le questionnaire rempli en utilisant le service sécurisé de dépôt électronique, désignez le questionnaire comme étant confidentiel. Notez que l’information contenue dans les onglets publics (les onglets bleus) du questionnaire sera traitée en tant qu’information publique. | O116: When submitting the completed questionnaire using the secure E-filing service, designate the questionnaire as confidential. Note that the information in the public (blue) tabs in your questionnaire will be treated as public information. | P116: Lorsque vous faites parvenir le questionnaire rempli en utilisant le service sécurisé de dépôt électronique, désignez le questionnaire comme étant confidentiel. Notez que l’information contenue dans les onglets publics (les onglets bleus) du questionnaire sera traitée en tant qu’information publique.
B118: =IF(Intro!$G$21="English",O118,P118) -> 2. Par courriel à l'adresse tcce-citt@tribunal.gc.ca si vous acceptez les risques connexes et vous transmettez des renseignements qui sont ceux de votre entreprise seulement. | O118: 2. E-mail to citt-tcce@tribunal.gc.ca should you accept the associated risks and you are filing information that belongs to your firm only. | P118: 2. Par courriel à l'adresse tcce-citt@tribunal.gc.ca si vous acceptez les risques connexes et vous transmettez des renseignements qui sont ceux de votre entreprise seulement.
B121: QUESTIONS | C121: =UPPER(IF(Intro!$G$21="English",P121,Q121)) | D121: =UPPER(IF(Intro!$G$21="English",Q121,R121)) | E121: =UPPER(IF(Intro!$G$21="English",R121,S121)) | G121: =UPPER(IF(Intro!$G$21="English",S121,T121)) | H121: =UPPER(IF(Intro!$G$21="English",T121,U121)) | I121: =UPPER(IF(Intro!$G$21="English",U121,V121)) | J121: =UPPER(IF(Intro!$G$21="English",V121,W121)) | K121: =UPPER(IF(Intro!$G$21="English",W121,X121)) | L121: =UPPER(IF(Intro!$G$21="English",X121,Y121))
B123: =IF(Intro!$G$21="English",O123,P123) -> Toutes les questions relatives au présent questionnaire doivent être adressées à : | O123: Questions relating to this questionnaire should be directed to: | P123: Toutes les questions relatives au présent questionnaire doivent être adressées à :
B125: =Variables!B13 -> Joseph Long | E125: =Variables!C13 -> Joseph.Long@tribunal.gc.ca | J125: =Variables!D13 -> (343) 597-3847
B126: =Variables!B14 -> François Thivierge | E126: =Variables!C14 -> Francois.Thivierge@tribunal.gc.ca | J126: =Variables!D14 -> (343) 550-4453

Sheet Info
A1: 8 | O1: hiddenc | P1: hiddenc
B2: PUBLIC | O2: English | P2: Français
B4: =IF(Intro!$G$21="English",O4,P4) -> QUESTIONNAIRE À L'INTENTION DES PRODUCTEURS ÉTRANGERS | O4: FOREIGN PRODUCER QUESTIONNAIRE | P4: QUESTIONNAIRE À L'INTENTION DES PRODUCTEURS ÉTRANGERS
B5: =Intro!B5 -> NQ-2026-006
B6: =UPPER(IF(Intro!$G$21="English",Variables!B3,Variables!C3)) -> GLUTEN DE BLÉ
B8: =UPPER(IF(Intro!$G$21="English",O8,P8)) -> APERÇU DU QUESTIONNAIRE | C8: =UPPER(IF(Intro!$G$21="English",P8,Q8)) | E8: =UPPER(IF(Intro!$G$21="English",Q8,R8)) | F8: =UPPER(IF(Intro!$G$21="English",R8,S8)) | G8: =UPPER(IF(Intro!$G$21="English",S8,T8)) | H8: =UPPER(IF(Intro!$G$21="English",T8,U8)) | I8: =UPPER(IF(Intro!$G$21="English",U8,V8)) | J8: =UPPER(IF(Intro!$G$21="English",V8,W8)) | K8: =UPPER(IF(Intro!$G$21="English",W8,X8)) | L8: =UPPER(IF(Intro!$G$21="English",X8,Y8)) | O8: QUESTIONNAIRE OUTLINE | P8: APERÇU DU QUESTIONNAIRE
B10: =IF(Intro!$G$21="English",O10,P10) -> Le présent questionnaire est divisé en deux parties : | O10: This questionnaire is divided into two parts: | P10: Le présent questionnaire est divisé en deux parties :
B12: =IF(Intro!$G$21="English",O12,P12) -> PARTIE I (onglets bleus) - porte sur des renseignements de nature publique. Les demandes de traiter un ou des renseignements comme des renseignements confidentiels doivent être dûment justifiées par écrit et être accompagnées d’une version publique remaniée. | O12: PART I (Blue Tabs) - Information requested in this part is public. Requests to treat any of this information as confidential must be fully justified in writing and accompanied by a redacted version for the public record. | P12: PARTIE I (onglets bleus) - porte sur des renseignements de nature publique. Les demandes de traiter un ou des renseignements comme des renseignements confidentiels doivent être dûment justifiées par écrit et être accompagnées d’une version publique remaniée.
B15: =IF(Intro!$G$21="English",O15,P15) -> PARTIE II (onglets verts) - Les renseignements de nature confidentielle seront traités conformément aux articles 43 à 49 de la Loi sur le Tribunal canadien du commerce extérieur, qui précisent que ces renseignements ne doivent pas être rendus publics de manière à pouvoir être utilisés par un concurrent de la personne, de l’entreprise ou de la société déclarante. | O15: PART II (Green Tabs) - Information requested in this part is considered to be confidential in nature and will be treated in accordance with sections 43 to 49 of the Canadian International Trade Tribunal Act, which require that it shall not be made public in such a manner as to be available for the use of any business competitor or rival of the reporting person, firm or corporation. | P15: PARTIE II (onglets verts) - Les renseignements de nature confidentielle seront traités conformément aux articles 43 à 49 de la Loi sur le Tribunal canadien du commerce extérieur, qui précisent que ces renseignements ne doivent pas être rendus publics de manière à pouvoir être utilisés par un concurrent de la personne, de l’entreprise ou de la société déclarante.
B19: =IF(Intro!$G$21="English",O19,P19) -> GLOSSAIRE | C19: GLOSSAIRE | O19: GLOSSARY | P19: GLOSSAIRE
B20: =IF(Intro!$G$21="English",O20,P20) -> La capacité pratique des usines | D20: =IF(Intro!$G$21="English",O21,P21) -> Correspond au niveau de rendement le plus élevé du matériel et de l’outillage utilisés dans la production des marchandises et de tous les autres produits (utilisant le même équipement) que vos usines peuvent atteindre en continu, tout en appliquant un régime de travail réaliste. Il convient de tenir compte de la gamme de produits fabriqués, du nombre de périodes de travail par jour, du nombre de jours d’exploitation par année, etc., au cours des cinq dernières années. | O20: Practical plant capacity | P20: La capacité pratique des usines
O21: The greatest level of output from the machinery and equipment used in the production of the goods and all other products (using the same equipment) that your plants can achieve on a continuous basis within the framework of a realistic work pattern. Consideration should be given to the typical product mix, number of shifts per day, annual operating days, etc., over the past five years. | P21: Correspond au niveau de rendement le plus élevé du matériel et de l’outillage utilisés dans la production des marchandises et de tous les autres produits (utilisant le même équipement) que vos usines peuvent atteindre en continu, tout en appliquant un régime de travail réaliste. Il convient de tenir compte de la gamme de produits fabriqués, du nombre de périodes de travail par jour, du nombre de jours d’exploitation par année, etc., au cours des cinq dernières années.
B24: =IF(Intro!$G$21="English",O24,P24) -> Entreprises affiliées | D24: =IF(Intro!$G$21="English",O25,P25) -> Des entreprises liées l’une à l’autre de quelque façon que ce soit autre qu’une relation client-fournisseur sans lien de dépendance. Par exemple, des entreprises sont associées ou liées si un cadre ou un directeur de l’une est cadre ou directeur de l’autre, si une entreprise, directement ou indirectement, possède, détient ou contrôle des actions de l’autre entreprise. | O24: Related firms | P24: Entreprises affiliées
O25: Firms that are related to each other in any manner other than through an arm’s length (independent) customer/supplier relationship. For example, firms are associated or related if an officer or director of one firm is an officer or director of the other, if a firm directly or indirectly owns, holds or controls shares of the other firm. | P25: Des entreprises liées l’une à l’autre de quelque façon que ce soit autre qu’une relation client-fournisseur sans lien de dépendance. Par exemple, des entreprises sont associées ou liées si un cadre ou un directeur de l’une est cadre ou directeur de l’autre, si une entreprise, directement ou indirectement, possède, détient ou contrôle des actions de l’autre entreprise.

Sheet Public
O1: hiddenc | P1: hiddenc
B2: PUBLIC | O2: English | P2: Français
B4: =Info!B4 -> QUESTIONNAIRE À L'INTENTION DES PRODUCTEURS ÉTRANGERS
B5: =Info!B5 -> NQ-2026-006
B6: =Info!B6 -> GLUTEN DE BLÉ
B8: =IF(Intro!$G$21="English",O8,P8) -> Les questions suivantes font référence aux marchandises comme définies dans la description du produit de l'onglet Intro. | O8: ="The following questions refer to the goods as defined in the product description on the Intro tab." -> The following questions refer to the goods as defined in the product description on the Intro tab. | P8: ="Les questions suivantes font référence aux marchandises comme définies dans la description du produit de l'onglet Intro." -> Les questions suivantes font référence aux marchandises comme définies dans la description du produit de l'onglet Intro.
B9: =IF(Intro!$G$21="English",O9,P9) -> Des informations sur le produit et un glossaire de termes sont disponibles dans l'onglet Info. | O9: Product information and a glossary of terms can be found in the Info tab. | P9: Des informations sur le produit et un glossaire de termes sont disponibles dans l'onglet Info.
B10: =IF(Intro!$G$21="English",O10,P10) -> Utilisez l'onglet AddPub si vous avez besoin de plus d'espace. | O10: Use the AddPub tab if more space is needed. | P10: Utilisez l'onglet AddPub si vous avez besoin de plus d'espace.
B12: =IF(Intro!$G$21="English",O12,P12) -> INFORMATIONS GÉNÉRALES SUR L'ENTREPRISE | O12: GENERAL FIRM INFORMATION | P12: INFORMATIONS GÉNÉRALES SUR L'ENTREPRISE
B13: Question 1
B15: =IF(Intro!$G$21="English",O15,P15) -> Donnez un bref historique de votre entreprise, en insistant plus particulièrement sur les activités entourant les marchandises. | O15: Provide a brief history of your firm, with particular emphasis on activities regarding the goods. | P15: Donnez un bref historique de votre entreprise, en insistant plus particulièrement sur les activités entourant les marchandises.
B26: Question 2
B28: =IF(Intro!$G$21="English",O28,P28) -> Fournissez des détails concernant les mesures antidumping et/ou compensatoires imposées par les autorités d'un pays autre que le Canada à l'égard des marchandises ou des marchandises similaires auxquelles votre pays ou votre entreprise est assujetti depuis le 1er janvier 2023. | O28: ="Provide details concerning anti-dumping and countervailing measures imposed by authorities of a country other than Canada in respect of the goods or similar goods to which your country or your firm has been subject since January 1, "&Variables!B6&"." -> Provide details concerning anti-dumping and countervailing measures imposed by authorities of a country other than Canada in respect of the goods or similar goods to which your country or your firm has been subject since January 1, 2023. | P28: ="Fournissez des détails concernant les mesures antidumping et/ou compensatoires imposées par les autorités d'un pays autre que le Canada"&" à l'égard des marchandises ou des marchandises similaires auxquelles votre pays ou votre entreprise est assujetti depuis le 1er janvier "&Variables!B6&"." -> Fournissez des détails concernant les mesures antidumping et/ou compensatoires imposées par les autorités d'un pays autre que le Canada à l'égard des marchandises ou des marchandises similaires auxquelles votre pays ou votre entreprise est assujetti depuis le 1er janvier 2023.
B40: Question 3
B42: =IF(Intro!$G$21="English",O42,P42) -> Dressez la liste des dénominations et adresses de toutes les entreprises canadiennes ou étrangères auxquelles votre entreprise est reliée, c'est-à-dire des entreprises avec qui votre entreprise est liée de quelque façon que ce soit autre qu’une relation client-fournisseur sans lien de dépendance. Par exemple, des entreprises sont associées ou liées si un cadre ou un directeur de l’une est cadre ou directeur de l’autre, si une entreprise, directement ou indirectement, possède, détient ou contrôle des actions de l’autre entreprise. Pour chaque entreprise, veuillez indiquer le type d’affiliation et son rôle dans l'industrie (par exemple, la production, l’exportation, l’importation, la vente, l’achat de marchandises ou l’approvisionnement de matières premières pour la production des marchandises). | O42: List the names and addresses of any foreign or Canadian firms related to your firm, i.e. firms that your firm is related to in any manner other than through an arm’s length (independent) customer/supplier relationship. For example, firms are associated or related if an officer or director of one firm is an officer or director of the other, if a firm directly or indirectly owns, holds or controls shares of the other firm. For each firm, indicate the nature of your association and its role in the industry (for example: production, export, import, sale, purchase of the goods or supply of direct materials used to produce the goods). | P42: Dressez la liste des dénominations et adresses de toutes les entreprises canadiennes ou étrangères auxquelles votre entreprise est reliée, c'est-à-dire des entreprises avec qui votre entreprise est liée de quelque façon que ce soit autre qu’une relation client-fournisseur sans lien de dépendance. Par exemple, des entreprises sont associées ou liées si un cadre ou un directeur de l’une est cadre ou directeur de l’autre, si une entreprise, directement ou indirectement, possède, détient ou contrôle des actions de l’autre entreprise. Pour chaque entreprise, veuillez indiquer le type d’affiliation et son rôle dans l'industrie (par exemple, la production, l’exportation, l’importation, la vente, l’achat de marchandises ou l’approvisionnement de matières premières pour la production des marchandises).
C47: =IF(Intro!$G$21="English",O47,P47) -> Dénomination sociale de l'entreprise | E47: =IF(Intro!$G$21="English",O48,P48) -> Adresse de l'entreprise | G47: =IF(Intro!$G$21="English",O49,P49) -> Type d'affiliation | J47: =IF(Intro!$G$21="English",O50,P50) -> Rôle dans l'industrie | O47: Firm Name | P47: Dénomination sociale de l'entreprise
O48: Firm Address | P48: Adresse de l'entreprise
B49: 1 | O49: Nature of association | P49: Type d'affiliation
O50: Role in the Industry | P50: Rôle dans l'industrie
B51: 2
B53: 3
B55: 4
B57: 5
B59: 6
B61: 7
B63: 8
B65: 9
B67: 10
B71: PRODUCTION
B72: Question 4
B74: =IF(Intro!$G$21="English",O74,P74) -> Fournissez les informations suivantes concernant la production de toutes les marchandises de votre entreprise . | O74: ="Provide the following information about the production of all of your firm's goods in "&Variables!B5&"." -> Provide the following information about the production of all of your firm's goods in Italy, Poland and the UK. | P74: ="Fournissez les informations suivantes concernant la production de toutes les marchandises de votre entreprise "&Variables!D5&"." -> Fournissez les informations suivantes concernant la production de toutes les marchandises de votre entreprise .
C76: =IF(Intro!$G$21="English",O76,P76) -> Dénomination sociale et emplacement de l'établissement | E76: =IF(Intro!$G$21="English",O77,P77) -> Expliquez si cette installation produit les marchandises destinées au marché canadien et/ou à d'autres marchés d'exportation. | G76: =IF(Intro!$G$21="English",O78,P78) -> Description et spécifications des marchandises produites | I76: =IF(Intro!$G$21="English",O79,P79) -> Si cette installation ne produit pas les marchandises, quelles modifications seraient nécessaires pour pouvoir produire les marchandises? | K76: =IF(Intro!$G$21="English",O80,P80) -> Quels autres produits, le cas échéant, pourraient être fabriqués à l’aide du même outillage utilisé pour la production des marchandises? | O76: Facility Name and Location | P76: Dénomination sociale et emplacement de l'établissement
O77: Explain whether this facility produces the goods for the Canadian market and other export markets. | P77: Expliquez si cette installation produit les marchandises destinées au marché canadien et/ou à d'autres marchés d'exportation.
O78: Description and specifications of the goods produced | P78: Description et spécifications des marchandises produites
O79: If this facility does not produce the goods, what modifications would be needed to be able to produce the goods? | P79: Si cette installation ne produit pas les marchandises, quelles modifications seraient nécessaires pour pouvoir produire les marchandises?
O80: What other products, if any, can be produced on the same equipment used to produce the goods? | P80: Quels autres produits, le cas échéant, pourraient être fabriqués à l’aide du même outillage utilisé pour la production des marchandises?
B82: 1
B92: 2
B102: 3
B112: 4
B122: 5
B132: 6
B142: 7
B152: 8
B162: 9
B172: 10
B183: Question 5
B185: =IF(Intro!$G$21="English",O185,P185) -> Décrivez les processus de production de votre entreprise pour les marchandises et fournissez des organigrammes illustrant les processus. | O185: Describe your firm's production processes for the goods and provide flow charts illustrating the processes. | P185: Décrivez les processus de production de votre entreprise pour les marchandises et fournissez des organigrammes illustrant les processus.
B197: =IF(Intro!$G$21="English",O197,P197) -> VENTES | O197: SALES | P197: VENTES
B198: Question 6
B200: =IF(Intro!$G$21="English",O200,P200) -> Comment votre entreprise favorise-t-elle les ventes des marchandises sur le marché canadien? Vos méthodes ont-elles changées depuis le 1er janvier 2023? | O200: ="How does your firm promote sales of the goods in the Canadian market? Have these methods changed since January 1, "&Variables!B6&"?" -> How does your firm promote sales of the goods in the Canadian market? Have these methods changed since January 1, 2023? | P200: ="Comment votre entreprise favorise-t-elle les ventes des marchandises sur le marché canadien? Vos méthodes ont-elles changées depuis le 1er janvier "&Variables!B6&"?" -> Comment votre entreprise favorise-t-elle les ventes des marchandises sur le marché canadien? Vos méthodes ont-elles changées depuis le 1er janvier 2023?
B212: =IF(Intro!$G$21="English",O212,P212) -> MARCHÉS | O212: MARKETS | P212: MARCHÉS
B213: Question 7
B215: =IF(Intro!$G$21="English",O215,P215) -> Décrivez les marchés des marchandises dans votre pays de production, au Canada et dans le monde depuis le 1er janvier 2023. Les facteurs à prendre en compte dans votre réponse comprennent, sans s'y limiter, la demande, les ventes, les prix, l'utilisation de la capacité et les volumes d'exportations des marchandises. | O215: ="Describe the markets for the goods in your country of production, in Canada and globally since January 1, "&Variables!B6&". Factors to consider in your response include, but are not limited to, demand, sales, prices, capacity utilization and export volumes of the goods." -> Describe the markets for the goods in your country of production, in Canada and globally since January 1, 2023. Factors to consider in your response include, but are not limited to, demand, sales, prices, capacity utilization and export volumes of the goods. | P215: ="Décrivez les marchés des marchandises dans votre pays de production, au Canada et dans le monde depuis le 1er janvier "&Variables!B6&". Les facteurs à prendre en compte dans votre réponse comprennent, sans s'y limiter, la demande, les ventes, les prix, l'utilisation de la capacité et les volumes d'exportations des marchandises." -> Décrivez les marchés des marchandises dans votre pays de production, au Canada et dans le monde depuis le 1er janvier 2023. Les facteurs à prendre en compte dans votre réponse comprennent, sans s'y limiter, la demande, les ventes, les prix, l'utilisation de la capacité et les volumes d'exportations des marchandises.
B227: Question 8
B229: =IF(Intro!$G$21="English",O229,P229) -> Expliquez les changements que vous prévoyez voir sur votre marché intérieur, sur le marché canadien et sur d’autres marchés mondiaux pour les marchandises au cours des deux prochaines années en ce qui concerne la demande, les prix, l’utilisation des capacités, les volumes d’importations ou tout autre facteur. | O229: ="Explain any changes you expect to see in your home market, in the Canadian market and in other markets globally for the goods over the next two years with respect to demand, prices, capacity utilization, import volumes or any other factor." -> Explain any changes you expect to see in your home market, in the Canadian market and in other markets globally for the goods over the next two years with respect to demand, prices, capacity utilization, import volumes or any other factor. | P229: Expliquez les changements que vous prévoyez voir sur votre marché intérieur, sur le marché canadien et sur d’autres marchés mondiaux pour les marchandises au cours des deux prochaines années en ce qui concerne la demande, les prix, l’utilisation des capacités, les volumes d’importations ou tout autre facteur.

Sheet AddPub
O1: hiddenc | P1: hiddenc
B2: PUBLIC | O2: English | P2: Français
B4: =Info!B4 -> QUESTIONNAIRE À L'INTENTION DES PRODUCTEURS ÉTRANGERS
B5: =Info!B5 -> NQ-2026-006
B6: =Info!B6 -> GLUTEN DE BLÉ
B8: =IF(Intro!$G$21="English",O8,P8) -> COMMENTAIRES PUBLICS | O8: PUBLIC COMMENTS | P8: COMMENTAIRES PUBLICS
B10: =IF(Intro!$G$21="English",O10,P10) -> Si votre entreprise désire ajouter des commentaires concernant vos réponses, vous les inscrivez ici. Indiquez à quelle question se rapportent vos commentaires. | O10: Should your firm wish to add any comments related to its responses, submit them here. Be sure to indicate the question number being commented on. | P10: Si votre entreprise désire ajouter des commentaires concernant vos réponses, vous les inscrivez ici. Indiquez à quelle question se rapportent vos commentaires.
O11: Tab and Question | P11: Onglet et question
A12: AA | C12: =IF(Intro!$G$21="English",O11,P11) -> Onglet et question | D12: =IF(Intro!$G$21="English",O12,P12) -> Commentaires | O12: Comments | P12: Commentaires
B13: =IF(Intro!$G$21="English",O13,P13) -> Commentaire 1 | O13: Comment 1 | P13: Commentaire 1
B23: =IF(Intro!$G$21="English",O23,P23) -> Commentaire 2 | O23: Comment 2 | P23: Commentaire 2
B33: =IF(Intro!$G$21="English",O33,P33) -> Commentaire 3 | O33: Comment 3 | P33: Commentaire 3
B43: =IF(Intro!$G$21="English",O43,P43) -> Commentaire 4 | O43: Comment 4 | P43: Commentaire 4
B53: =IF(Intro!$G$21="English",O53,P53) -> Commentaire 5 | O53: Comment 5 | P53: Commentaire 5

Sheet Pro 1
O1: hiddenc | P1: hiddenc
B2: =IF(Intro!$G$21="English",O3,P3) -> PROTÉGÉ | O2: English | P2: Français
O3: PROTECTED | P3: PROTÉGÉ
B4: =Info!B4 -> QUESTIONNAIRE À L'INTENTION DES PRODUCTEURS ÉTRANGERS
B5: =Info!B5 -> NQ-2026-006
B6: =Info!B6 -> GLUTEN DE BLÉ
B8: =Public!B8 -> Les questions suivantes font référence aux marchandises comme définies dans la description du produit de l'onglet Intro.
B9: =Public!B9 -> Des informations sur le produit et un glossaire de termes sont disponibles dans l'onglet Info.
B10: =IF(Intro!$G$21="English",O10,P10) -> Utilisez l'onglet AddPro si vous avez besoin de plus d'espace. | O10: Use the AddPro tab if more space is needed. | P10: ="Utilisez l'onglet AddPro si vous avez besoin de plus d'espace."&CHAR(10) -> Utilisez l'onglet AddPro si vous avez besoin de plus d'espace.
B12: =IF(Intro!$G$21="English",O12,P12) -> PRODUCTION ET CAPACITÉ | O12: PRODUCTION AND CAPACITY | P12: PRODUCTION ET CAPACITÉ
B13: Question 1
B15: =IF(Intro!$G$21="English",O15,P15) -> Remplir le tableau suivant pour la production des marchandises par votre entreprise et d'autres produits fabriqués à l'aide du même équipement. Remarque : les autres produits fabriqués à l'aide du même équipement sont tous les autres produits autres que les marchandises définies dans l'onglet « Intro » qui sont fabriqués à l'aide du même équipement. | O15: Complete the following table for your firm's production of the goods and other goods produced using the same equipment. Note, other products produced using the same equipment are any other products besides the goods as defined in the "Intro" tab that are produced using the same equipment. | P15: Remplir le tableau suivant pour la production des marchandises par votre entreprise et d'autres produits fabriqués à l'aide du même équipement. Remarque : les autres produits fabriqués à l'aide du même équipement sont tous les autres produits autres que les marchandises définies dans l'onglet « Intro » qui sont fabriqués à l'aide du même équipement.
H19: =Variables!B6 -> 2023 | I19: =H19+1 -> 2024 | J19: =I19+1 -> 2025 | K19: =IF(Intro!$G$21="English",Variables!B9,Variables!C9) -> janv.-juin 2025 | L19: =IF(Intro!$G$21="English",Variables!B10,Variables!C10) -> janv.-juin 2026
B21: Production | G21: =IF(Intro!$G$21="English",Variables!$B$23,Variables!$C$23) -> Tonnes
B22: =IF(Intro!$G$21="English",O22,P22) -> Production de produits fabriqués avec le même équipement autre que les marchandises | G22: =G21 -> Tonnes | O22: Production of products produced using the same equipment other than the goods | P22: Production de produits fabriqués avec le même équipement autre que les marchandises
B23: =IF(Intro!$G$21="English",O23,P23) -> Total | G23: =G21 -> Tonnes | H23: =SUM(H21,H22) -> 0 | I23: =SUM(I21,I22) -> 0 | J23: =SUM(J21,J22) -> 0 | K23: =SUM(K21,K22) -> 0 | L23: =SUM(L21,L22) -> 0 | O23: Total | P23: Total
B24: =IF(Intro!$G$21="English",O24,P24) -> Capacité pratique des usines | G24: =G21 -> Tonnes | O24: Practical plant capacity | P24: Capacité pratique des usines
B25: =IF(Intro!$G$21="English",O25,P25) -> Taux d'utilisation des capacités des marchandises | G25: % | H25: =IF(H24=0,"-",H21/H24*100) -> - | I25: =IF(I24=0,"-",I21/I24*100) -> - | J25: =IF(J24=0,"-",J21/J24*100) -> - | K25: =IF(K24=0,"-",K21/K24*100) -> - | L25: =IF(L24=0,"-",L21/L24*100) -> - | O25: Capacity utilization rate of the goods | P25: Taux d'utilisation des capacités des marchandises
B26: =IF(Intro!$G$21="English",O26,P26) -> Taux d'utilisation total des capacités | G26: % | H26: =IF(H24=0,"-",H23/H24*100) -> - | I26: =IF(I24=0,"-",I23/I24*100) -> - | J26: =IF(J24=0,"-",J23/J24*100) -> - | K26: =IF(K24=0,"-",K23/K24*100) -> - | L26: =IF(L24=0,"-",L23/L24*100) -> - | O26: Total capacity utilization rate | P26: Taux d'utilisation total des capacités
B28: Question 2
B30: =IF(Intro!$G$21="English",O30,P30) -> Fournissez des détails sur la façon dont votre entreprise détermine la capacité pratique des usines. | O30: Explain in detail how your firm determines practical plant capacity. | P30: Fournissez des détails sur la façon dont votre entreprise détermine la capacité pratique des usines.
B41: Question 3
B43: =IF(Intro!$G$21="English",O43,P43) -> Si l'un ou l'autre des taux d'utilisation de la capacité, tel que calculé, est supérieur à 100 %, expliquez. | O43: If any of the calculated capacity utilization rates are higher than 100%, explain why this has occurred. | P43: Si l'un ou l'autre des taux d'utilisation de la capacité, tel que calculé, est supérieur à 100 %, expliquez.
B54: Question 4
B56: =IF(Intro!$G$21="English",O56,P56) -> Si la capacité pratique de l’usine a changé depuis le 1er janvier 2023, expliquez comment cela a été réalisé. | O56: ="If practical plant capacity has changed since January 1, "&Variables!$B$6&", explain how this was achieved." -> If practical plant capacity has changed since January 1, 2023, explain how this was achieved. | P56: ="Si la capacité pratique de l’usine a changé depuis le 1er janvier "&Variables!B6&", expliquez comment cela a été réalisé." -> Si la capacité pratique de l’usine a changé depuis le 1er janvier 2023, expliquez comment cela a été réalisé.
B67: Question 5
B69: =IF(Intro!$G$21="English",O69,P69) -> Décrivez les plans de votre entreprise pour augmenter ou diminuer la capacité pratique de son usine de marchandises au cours des deux prochaines années, y compris les dates cibles, la capacité pratique cible de l'usine, les usines concernées et les raisons du changement. | O69: Describe your firm’s plans to increase or decrease its practical plant capacity of the goods in the next two years, including target dates, target practical plant capacity, the plants involved and the reasons for the change. | P69: Décrivez les plans de votre entreprise pour augmenter ou diminuer la capacité pratique de son usine de marchandises au cours des deux prochaines années, y compris les dates cibles, la capacité pratique cible de l'usine, les usines concernées et les raisons du changement.
B81: Question 6
B83: =IF(Intro!$G$21="English",O83,P83) -> Décrivez les plans de votre entreprise pour accroître, réduire ou cesser sa production des marchandises d'ici les deux prochaines années, soit dans ses installations où sont fabriquées actuellement des marchandises, soit dans ses installations où sont fabriqués d’autres produits. Fournissez les motifs et les hypothèses sous-tendant ces objectifs et ces stratégies. | O83: Describe your firm’s plans to increase, decrease or shut down its production of the goods, either at facilities currently producing the goods or currently being used to produce other products, in the next two years. Provide the rationale and assumptions underlying these strategies and objectives. | P83: Décrivez les plans de votre entreprise pour accroître, réduire ou cesser sa production des marchandises d'ici les deux prochaines années, soit dans ses installations où sont fabriquées actuellement des marchandises, soit dans ses installations où sont fabriqués d’autres produits. Fournissez les motifs et les hypothèses sous-tendant ces objectifs et ces stratégies.
B95: Question 7
B97: =IF(Intro!$G$21="English",O97,P97) -> Décrivez les plans de votre entreprise visant à modifier la gamme de produits fabriqués sur le même équipement au cours des deux prochaines années. Fournissez les motifs et les hypothèses sous-tendant ces objectifs et ces stratégies. | O97: Describe your firm’s plans to change the product mix of the goods produced on the same equipment, in the next two years. Provide the rationale and assumptions underlying these strategies and objectives. | P97: Décrivez les plans de votre entreprise visant à modifier la gamme de produits fabriqués sur le même équipement au cours des deux prochaines années. Fournissez les motifs et les hypothèses sous-tendant ces objectifs et ces stratégies.

Sheet Pro 2
O1: hiddenc | P1: hiddenc
B2: ='Pro 1'!B2 -> PROTÉGÉ | O2: English | P2: Français
B4: =Info!B4 -> QUESTIONNAIRE À L'INTENTION DES PRODUCTEURS ÉTRANGERS
B5: =Info!B5 -> NQ-2026-006
B6: =Info!B6 -> GLUTEN DE BLÉ
B8: =Public!B8 -> Les questions suivantes font référence aux marchandises comme définies dans la description du produit de l'onglet Intro.
B9: =Public!B9 -> Des informations sur le produit et un glossaire de termes sont disponibles dans l'onglet Info.
B10: ='Pro 1'!B10 -> Utilisez l'onglet AddPro si vous avez besoin de plus d'espace.
B12: =IF(Intro!$G$21="English",O12,P12) -> Pour les questions de cet onglet, notez ce qui suit : | O12: For the questions in this tab, note the following: | P12: Pour les questions de cet onglet, notez ce qui suit :
B13: =IF(Intro!$G$21="English",O13,P13) -> • Indiquez seulement les ventes effectuées à partir de la production de votre entreprise. | O13: • Report only sales of your firm’s production. | P13: • Indiquez seulement les ventes effectuées à partir de la production de votre entreprise.
B14: =IF(Intro!$G$21="English",O14,P14) -> • Déclarez toutes les ventes aux entreprises associées canadiennes et étrangères. | O14: • Report all sales to Canadian and foreign associated firms. | P14: • Déclarez toutes les ventes aux entreprises associées canadiennes et étrangères.
B15: =IF(Intro!$G$21="English",O15,P15) -> • Déclarez toutes les ventes à compter de la date de l’expédition au client ou à son entrepôt. | O15: • Report all sales as of the date of shipment to the customer or the customer’s warehouse. | P15: • Déclarez toutes les ventes à compter de la date de l’expédition au client ou à son entrepôt.
B16: =IF(Intro!$G$21="English",O16,P16) -> • Déclarez toutes les valeurs en dollars canadiens. | O16: • Report all values in Canadian dollars. | P16: • Déclarez toutes les valeurs en dollars canadiens.
B17: =IF(Intro!$G$21="English",O17,P17) -> • Déclarez la valeur des ventes comme la valeur de vente nette rendue (voir définition dans le Glossaire). | O17: • Report sales value as net delivered selling value (see definition in Glossary). | P17: • Déclarez la valeur des ventes comme la valeur de vente nette rendue (voir définition dans le Glossaire).
B19: =UPPER(IF(Intro!$G$21="English",O19,P19)) -> VENTES ET STOCKS | O19: SALES AND INVENTORIES | P19: VENTES ET STOCKS
B20: Question 1
B22: =IF(Intro!$G$21="English",O22,P22) -> Fournissez les estimations suivantes en pourcentage: | O22: Provide the following estimated percentages: | P22: Fournissez les estimations suivantes en pourcentage:
L23: =Variables!$B$6+2 -> 2025
B24: =IF(Intro!$G$21="English",O24,P24) -> Le volume des ventes des marchandises de votre entreprise divisé par le volume des ventes totales de votre entreprise | K24: % | O24: Your firm's sales volume of the goods divided by your firm's total sales volume | P24: Le volume des ventes des marchandises de votre entreprise divisé par le volume des ventes totales de votre entreprise
B25: =IF(Intro!$G$21="English",O25,P25) -> La valeur des ventes des marchandises de votre entreprise divisée par la valeur des ventes totales de votre entreprise | K25: % | O25: Your firm's sales value of the goods divided by your firm's total sales value | P25: La valeur des ventes des marchandises de votre entreprise divisée par la valeur des ventes totales de votre entreprise
B26: =IF(Intro!$G$21="English",O26,P26) -> Le volume de production des marchandises par votre entreprise divisé par le volume total de production des marchandises de votre pays | K26: % | O26: Your firm's production volume of the goods divided by your home country's total production volume of the goods | P26: Le volume de production des marchandises par votre entreprise divisé par le volume total de production des marchandises de votre pays
B27: =IF(Intro!$G$21="English",O27,P27) -> Le volume total des exportations des marchandises au Canada par votre entreprise divisé par le volume total des exportations des marchandises au Canada par votre pays | K27: % | O27: Your firm's volume of exports of the goods to Canada divided by your home country's total volume of exports of the goods to Canada | P27: Le volume total des exportations des marchandises au Canada par votre entreprise divisé par le volume total des exportations des marchandises au Canada par votre pays
B30: Question 2
B32: =IF(Intro!$G$21="English",O32,P32) -> Remplir le tableau suivant pour les ventes et les stocks des marchandises par votre entreprise. | O32: Complete the following table for your firm's sales and inventories of the goods. | P32: Remplir le tableau suivant pour les ventes et les stocks des marchandises par votre entreprise.
G34: =Variables!$B$6 -> 2023 | H34: =G34+1 -> 2024 | I34: =H34+1 -> 2025 | J34: =IF(Intro!$G$21="English",Variables!B9,Variables!C9) -> janv.-juin 2025 | K34: =IF(Intro!$G$21="English",Variables!B10,Variables!C10) -> janv.-juin 2026
B36: =IF(Intro!$G$21="English",O36,P36) -> Stock d'ouverture | D36: =IF(Intro!$G$21="English",Variables!$B$23,Variables!$C$23) -> Tonnes | H36: =G49 -> 0 | I36: =H49 -> 0 | J36: =H49 -> 0 | K36: =I49 -> 0 | O36: Beginning inventory | P36: Stock d'ouverture
B37: =IF(Intro!$G$21="English",O37,P37) -> Ventes dans le pays de production | D37: =IF(Intro!$G$21="English",Variables!$B$23,Variables!$C$23) -> Tonnes | O37: Sales in country of production | P37: Ventes dans le pays de production
D38: =IF(Intro!G$21="English",O38,P38) -> à l'usine (CAD) | O38: Ex Works (CAD) | P38: à l'usine (CAD)
D39: ="$ / "&IF(Intro!$G$21="English",Variables!$B$24,Variables!$C$24) -> $ / Tonne | G39: =IF(G37=0,"-",G38/G37) -> - | H39: =IF(H37=0,"-",H38/H37) -> - | I39: =IF(I37=0,"-",I38/I37) -> - | J39: =IF(J37=0,"-",J38/J37) -> - | K39: =IF(K37=0,"-",K38/K37) -> - | O39: *Adjust decimal points in tables as needed.
B40: =IF(Intro!$G$21="English",O40,P40) -> Ventes à l'exportation au Canada | D40: =IF(Intro!$G$21="English",Variables!$B$23,Variables!$C$23) -> Tonnes | O40: Export sales to Canada | P40: Ventes à l'exportation au Canada
D41: =IF(Intro!G$21="English",O41,P41) -> FOB pays d'exportation (CAD) | O41: FOB Country of Export (CAD) | P41: FOB pays d'exportation (CAD)
D42: ="$ / "&IF(Intro!$G$21="English",Variables!$B$24,Variables!$C$24) -> $ / Tonne | G42: =IF(G40=0,"-",G41/G40) -> - | H42: =IF(H40=0,"-",H41/H40) -> - | I42: =IF(I40=0,"-",I41/I40) -> - | J42: =IF(J40=0,"-",J41/J40) -> - | K42: =IF(K40=0,"-",K41/K40) -> -
B43: =IF(Intro!$G$21="English",O43,P43) -> Ventes à l'exportation aux États-Unis d'Amérique | D43: =IF(Intro!$G$21="English",Variables!$B$23,Variables!$C$23) -> Tonnes | O43: Export sales to the United States of America | P43: Ventes à l'exportation aux États-Unis d'Amérique
D44: =D41 -> FOB pays d'exportation (CAD)
D45: ="$ / "&IF(Intro!$G$21="English",Variables!$B$24,Variables!$C$24) -> $ / Tonne | G45: =IF(G43=0,"-",G44/G43) -> - | H45: =IF(H43=0,"-",H44/H43) -> - | I45: =IF(I43=0,"-",I44/I43) -> - | J45: =IF(J43=0,"-",J44/J43) -> - | K45: =IF(K43=0,"-",K44/K43) -> -
B46: =IF(Intro!$G$21="English",O46,P46) -> Ventes à l'exportation vers tous les autres pays | D46: =IF(Intro!$G$21="English",Variables!$B$23,Variables!$C$23) -> Tonnes | O46: Export sales to all other countries | P46: Ventes à l'exportation vers tous les autres pays
D47: =D41 -> FOB pays d'exportation (CAD)
D48: ="$ / "&IF(Intro!$G$21="English",Variables!$B$24,Variables!$C$24) -> $ / Tonne | G48: =IF(G46=0,"-",G47/G46) -> - | H48: =IF(H46=0,"-",H47/H46) -> - | I48: =IF(I46=0,"-",I47/I46) -> - | J48: =IF(J46=0,"-",J47/J46) -> - | K48: =IF(K46=0,"-",K47/K46) -> -
B49: =IF(Intro!$G$21="English",O49,P49) -> Stock de clôture | D49: =IF(Intro!$G$21="English",Variables!$B$23,Variables!$C$23) -> Tonnes | O49: Ending inventory | P49: Stock de clôture
B51: =IF(Intro!$G$21="English",O51,P51) -> Précisez tous les autres pays: | O51: List all other countries: | P51: Précisez tous les autres pays:
B54: Question 3
B56: =IF(Intro!$G$21="English",O56,P56) -> En utilisant les données fournies à la question 1 sur l'onglet Pro 1 avec les données fournies à la question 2 ci-dessus, le questionnaire calcule le stock de clôture comme suit : | O56: Using data provided in Question 1 on the Pro 1 tab with the data provided in Question 2 above, the questionnaire calculates ending inventory as follows: | P56: En utilisant les données fournies à la question 1 sur l'onglet Pro 1 avec les données fournies à la question 2 ci-dessus, le questionnaire calcule le stock de clôture comme suit :
G58: =Variables!$B$6 -> 2023 | H58: =G58+1 -> 2024 | I58: =H58+1 -> 2025 | J58: =J34 -> janv.-juin 2025 | K58: =K34 -> janv.-juin 2026
B60: =B49 -> Stock de clôture | F60: =IF(Intro!$G$21="English",Variables!$B$23,Variables!$C$23) -> Tonnes | G60: =G36+'Pro 1'!H21-G37-G40-G43-G46 -> 0 | H60: =H36+'Pro 1'!I21-H37-H40-H43-H46 -> 0 | I60: =I36+'Pro 1'!J21-I37-I40-I43-I46 -> 0 | J60: =J36+'Pro 1'!K21-J37-J40-J43-J46 -> 0 | K60: =K36+'Pro 1'!L21-K37-K40-K43-K46 -> 0
B61: =IF(Intro!$G$21="English",O61,P61) -> Différence entre le stock de clôture à la question 2 ci-dessus et le stock de clôture calculé | F61: =IF(Intro!$G$21="English",Variables!$B$23,Variables!$C$23) -> Tonnes | G61: =G49-G60 -> 0 | H61: =H49-H60 -> 0 | I61: =I49-I60 -> 0 | J61: =J49-J60 -> 0 | K61: =K49-K60 -> 0 | O61: Difference between ending inventory in Question 2 above and the calculated ending inventory. | P61: Différence entre le stock de clôture à la question 2 ci-dessus et le stock de clôture calculé
B65: =IF(Intro!$G$21="English",O65,P65) -> Si le volume du stock de clôture à la question 2 ci-dessus diffère du stock de clôture calculé, donnez la raison. | O65: If the volume of ending inventory in Question 2 above differs from the calculated ending inventory, explain why. | P65: Si le volume du stock de clôture à la question 2 ci-dessus diffère du stock de clôture calculé, donnez la raison.
B76: Question 4
B78: =IF(Intro!$G$21="English",O78,P78) -> Expliquez tous changements sur les activités d'exportation des marchandises de votre entreprise, depuis le 1er janvier 2023. | O78: ="Explain any changes to your firm's export activity of the goods since January 1, "&Variables!B6&"." -> Explain any changes to your firm's export activity of the goods since January 1, 2023. | P78: ="Expliquez tous changements sur les activités d'exportation des marchandises de votre entreprise, depuis le 1er janvier "&Variables!B6&"." -> Expliquez tous changements sur les activités d'exportation des marchandises de votre entreprise, depuis le 1er janvier 2023.
B89: Question 5
B91: =IF(Intro!$G$21="English",O91,P91) -> Indiquez les volumes du stock des marchandises finies produites pour le marché canadien. | D91: =IF(#REF!="English",P91,Q91) -> #REF! | E91: =IF(#REF!="English",Q91,R91) -> #REF! | F91: =IF(#REF!="English",R91,S91) -> #REF! | G91: =IF(#REF!="English",S91,T91) -> #REF! | H91: =IF(#REF!="English",T91,U91) -> #REF! | I91: =IF(#REF!="English",U91,V91) -> #REF! | J91: =IF(#REF!="English",V91,W91) -> #REF! | K91: =IF(#REF!="English",W91,X91) -> #REF! | L91: =IF(#REF!="English",X91,Y91) -> #REF! | O91: Report your firm's volumes of finished inventory of the goods produced for the Canadian market. | P91: Indiquez les volumes du stock des marchandises finies produites pour le marché canadien.
G93: =Variables!$B$6 -> 2023 | H93: =G93+1 -> 2024 | I93: =H93+1 -> 2025 | J93: =J34 -> janv.-juin 2025 | K93: =K34 -> janv.-juin 2026
B95: =IF(Intro!$G$21="English",O95,P95) -> Stock de clôture pour le marché canadien | F95: =IF(Intro!$G$21="English",Variables!$B$23,Variables!$C$23) -> Tonnes | O95: Finished ending inventory for the Canadian market | P95: Stock de clôture pour le marché canadien
B97: Question 6
B99: =IF(Intro!$G$21="English",O99,P99) -> Donnez le nom et l'adresse des 10 plus importants importateurs canadiens, en terme de valeurs, à qui votre entreprise a vendu des marchandises depuis le 1er janvier 2023. | O99: ="Provide the names and addresses of the top 10 Canadian importers by value to which your firm has sold the goods since January 1, "&Variables!B6&"." -> Provide the names and addresses of the top 10 Canadian importers by value to which your firm has sold the goods since January 1, 2023. | P99: ="Donnez le nom et l'adresse des 10 plus importants importateurs canadiens, en terme de valeurs, à qui votre entreprise a vendu des marchandises depuis le 1er janvier "&Variables!B6&"." -> Donnez le nom et l'adresse des 10 plus importants importateurs canadiens, en terme de valeurs, à qui votre entreprise a vendu des marchandises depuis le 1er janvier 2023.
O100: Firm Name | P100: Dénomination sociale de l'entreprise
C101: =IF(Intro!$G$21="English",O100,P100) -> Dénomination sociale de l'entreprise | G101: =IF(Intro!$G$21="English",O101,P101) -> Adresse de l'entreprise | O101: Firm Address | P101: Adresse de l'entreprise
B102: 1
B103: 2
B104: 3
B105: 4
B106: 5
B107: 6
B108: 7
B109: 8
B110: 9
B111: 10
B113: Question 7
B115: =IF(Intro!$G$21="English",O115,P115) -> Expliquez combien de fois votre entreprise a mené à bien un processus de certification pour un acheteur canadien depuis le 1er janvier 2023. Si votre firme a échoué un processus de certification, indiquez les raisons. | O115: ="Explain how often your firm has completed a certification process for a Canadian purchaser since January 1, "&Variables!B6&". If your firm has failed a certification process, indicate the reasons why." -> Explain how often your firm has completed a certification process for a Canadian purchaser since January 1, 2023. If your firm has failed a certification process, indicate the reasons why. | P115: ="Expliquez combien de fois votre entreprise a mené à bien un processus de certification pour un acheteur canadien depuis le 1er janvier "&Variables!B6&". Si votre firme a échoué un processus de certification, indiquez les raisons." -> Expliquez combien de fois votre entreprise a mené à bien un processus de certification pour un acheteur canadien depuis le 1er janvier 2023. Si votre firme a échoué un processus de certification, indiquez les raisons.
B128: Question 8
B130: =IF(Intro!$G$21="English",O130,P130) -> Décrivez les plans de votre entreprise pour gérer les niveaux de stocks au cours des deux prochaines années. Fournissez les motifs et les hypothèses sous-tendant ces objectifs et ces stratégies. | O130: Describe your firm’s plans to manage inventory levels in the next two years. Provide the rationale and assumptions underlying these strategies and objectives. | P130: Décrivez les plans de votre entreprise pour gérer les niveaux de stocks au cours des deux prochaines années. Fournissez les motifs et les hypothèses sous-tendant ces objectifs et ces stratégies.
B141: Question 9
B143: =IF(Intro!$G$21="English",O143,P143) -> Fournissez les stratégies et les objectifs de votre entreprise pour les deux prochaines années en ce qui concerne les prix des marchandises. Fournir la justification et les hypothèses qui sous-tendent ces stratégies et objectifs. | O143: Provide your firm’s strategies and objectives for the next two years with respect to the pricing of the goods. Provide the rationale and assumptions underlying these strategies and objectives. | P143: Fournissez les stratégies et les objectifs de votre entreprise pour les deux prochaines années en ce qui concerne les prix des marchandises. Fournir la justification et les hypothèses qui sous-tendent ces stratégies et objectifs.
B155: Question 10
B157: =IF(Intro!$G$21="English",O157,P157) -> Fournissez les stratégies et les objectifs de votre entreprise pour les deux prochaines années en ce qui concerne les ventes à l'exportation des marchandises. Fournir la justification et les hypothèses qui sous-tendent ces stratégies et objectifs. | O157: Provide your firm’s strategies and objectives for the next two years with respect to the export sales of the goods. Provide the rationale and assumptions underlying these strategies and objectives. | P157: Fournissez les stratégies et les objectifs de votre entreprise pour les deux prochaines années en ce qui concerne les ventes à l'exportation des marchandises. Fournir la justification et les hypothèses qui sous-tendent ces stratégies et objectifs.

Sheet AddPro
O1: hiddenc | P1: hiddenc
B2: ='Pro 1'!B2 -> PROTÉGÉ | O2: English | P2: Français
B4: =Info!B4 -> QUESTIONNAIRE À L'INTENTION DES PRODUCTEURS ÉTRANGERS
B5: =Info!B5 -> NQ-2026-006
B6: =Info!B6 -> GLUTEN DE BLÉ
B8: =IF(Intro!$G$21="English",O8,P8) -> COMMENTAIRES PROTÉGÉS | O8: PROTECTED COMMENTS | P8: COMMENTAIRES PROTÉGÉS
B10: =AddPub!B10 -> Si votre entreprise désire ajouter des commentaires concernant vos réponses, vous les inscrivez ici. Indiquez à quelle question se rapportent vos commentaires. | O10: Should your firm wish to add any comments related to its responses, submit them here. Be sure to indicate the question number being commented on. | P10: Si votre entreprise désire ajouter des commentaires concernant vos réponses, vous les inscrivez ici. Indiquez à quelle question se rapportent vos commentaires.
O11: Tab and Question | P11: Onglet et question
A12: AA | C12: =IF(Intro!$G$21="English",O11,P11) -> Onglet et question | D12: =IF(Intro!$G$21="English",O12,P12) -> Commentaires | O12: Comments | P12: Commentaires
B13: =IF(Intro!$G$21="English",O13,P13) -> Commentaire 1 | O13: Comment 1 | P13: Commentaire 1
B23: =IF(Intro!$G$21="English",O23,P23) -> Commentaire 2 | O23: Comment 2 | P23: Commentaire 2
B33: =IF(Intro!$G$21="English",O33,P33) -> Commentaire 3 | O33: Comment 3 | P33: Commentaire 3
B43: =IF(Intro!$G$21="English",O43,P43) -> Commentaire 4 | O43: Comment 4 | P43: Commentaire 4
B53: =IF(Intro!$G$21="English",O53,P53) -> Commentaire 5 | O53: Comment 5 | P53: Commentaire 5

Sheet Confirm
O1: hiddenc | P1: hiddenc
B2: PUBLIC | O2: English | P2: Français
B4: =Info!B4 -> QUESTIONNAIRE À L'INTENTION DES PRODUCTEURS ÉTRANGERS
B5: =Info!B5 -> NQ-2026-006
B6: =Info!B6 -> GLUTEN DE BLÉ
B8: =IF(Intro!$G$21="English",O8,P8) -> CONFIRMATION DES DONNÉES DÉCLARÉES | O8: CONFIRMATION OF REPORTED DATA | P8: CONFIRMATION DES DONNÉES DÉCLARÉES
B9: =IF(Intro!$G$21="English",O9,P9) -> GÉNÉRAL | O9: GENERAL | P9: GÉNÉRAL
J11: =IF(Intro!$G$21="English",O11,P11) -> Sélectionnez oui ou non | O11: Select Yes or No | P11: Sélectionnez oui ou non
B12: =IF(Intro!$G$21="English",O12,P12) -> Confirmez que toutes les données déclarées dans ce questionnaire concernent les marchandises telles que définies dans l’onglet « Intro ». | O12: Confirm that all data reported in this questionnaire pertain to the goods as defined in the "Intro" tab. | P12: Confirmez que toutes les données déclarées dans ce questionnaire concernent les marchandises telles que définies dans l’onglet « Intro ».
B13: =IF(Intro!$G$21="English",O13,P13) -> Confirmez que tous les volumes déclarés dans ce questionnaire sont en Tonnes. | O13: ="Confirm that all volumes reported in this questionnaire are in "&(Variables!B23)&"." -> Confirm that all volumes reported in this questionnaire are in Tonnes. | P13: ="Confirmez que tous les volumes déclarés dans ce questionnaire sont en "&(Variables!C23)&"." -> Confirmez que tous les volumes déclarés dans ce questionnaire sont en Tonnes.
B14: =IF(Intro!$G$21="English",O14,P14) -> Confirmez que toutes les valeurs déclarées dans ce questionnaire sont en dollars canadiens. | E14: =IF(SUM('Pro 2'!E30:E31)<>0,"X","-") -> - | F14: =IF(SUM('Pro 2'!F30:F31)<>0,"X","-") -> - | G14: =IF(SUM('Pro 2'!G30:G31)<>0,"X","-") -> - | H14: =IF(SUM('Pro 2'!H30:H31)<>0,"X","-") -> - | I14: =IF(SUM('Pro 2'!I30:I31)<>0,"X","-") -> - | O14: Confirm that all values reported in this questionnaire are in Canadian dollars. | P14: Confirmez que toutes les valeurs déclarées dans ce questionnaire sont en dollars canadiens.
B15: =IF(Intro!$G$21="English",O15,P15) -> Confirmez que tous les renseignements déclarés le sont selon l’année civile. | E15: =IF(SUM('Pro 2'!E33:E34)<>0,"X","-") -> - | F15: =IF(SUM('Pro 2'!F33:F34)<>0,"X","-") -> - | G15: =IF(SUM('Pro 2'!G33:G34)<>0,"X","-") -> X | H15: =IF(SUM('Pro 2'!H33:H34)<>0,"X","-") -> X | I15: =IF(SUM('Pro 2'!I33:I34)<>0,"X","-") -> X | O15: Confirm that all information is reported on a calendar-year basis. | P15: Confirmez que tous les renseignements déclarés le sont selon l’année civile.
B17: =IF(Intro!$G$21="English",O17,P17) -> Si non, expliquez. | O17: If no, explain. | P17: Si non, expliquez.
B28: =IF(Intro!$G$21="English",O28,P28) -> PRODUCTION ET VENTES | O28: PRODUCTION AND SALES | P28: PRODUCTION ET VENTES
B30: =IF(Intro!$G$21="English",O30,P30) -> Note : L’information publique/non confidentielle dans ce tableau est générée automatiquement à partir de l’information fournie sous les onglets « Pro 1 » et « Pro 2 ». Par conséquent, toute modification à apporter à ce résumé public/non confidentiel doit être faite sous les onglets « Pro 1 » et « Pro 2 ». | O30: Note: Public/non-confidential information in this table is automatically generated from the information provided in the "Pro 1" and "Pro 2" tabs. Any changes to this public summary must therefore be made in the "Pro 1" and "Pro 2" tabs. | P30: Note : L’information publique/non confidentielle dans ce tableau est générée automatiquement à partir de l’information fournie sous les onglets « Pro 1 » et « Pro 2 ». Par conséquent, toute modification à apporter à ce résumé public/non confidentiel doit être faite sous les onglets « Pro 1 » et « Pro 2 ».
E33: =Variables!B6 -> 2023 | F33: =E33+1 -> 2024 | G33: =F33+1 -> 2025 | H33: ='Pro 1'!K19 -> janv.-juin 2025 | I33: ='Pro 1'!L19 -> janv.-juin 2026
B35: ='Pro 1'!B21 -> Production | E35: =IF('Pro 1'!H21<>0,"X","-") -> - | F35: =IF('Pro 1'!I21<>0,"X","-") -> - | G35: =IF('Pro 1'!J21<>0,"X","-") -> - | H35: =IF('Pro 1'!K21<>0,"X","-") -> - | I35: =IF('Pro 1'!L21<>0,"X","-") -> -
B36: ='Pro 2'!B37 -> Ventes dans le pays de production | E36: =IF(SUM('Pro 2'!G37:G38)<>0,"X","-") -> - | F36: =IF(SUM('Pro 2'!H37:H38)<>0,"X","-") -> - | G36: =IF(SUM('Pro 2'!I37:I38)<>0,"X","-") -> - | H36: =IF(SUM('Pro 2'!J37:J38)<>0,"X","-") -> - | I36: =IF(SUM('Pro 2'!K37:K38)<>0,"X","-") -> -
B37: ='Pro 2'!B40 -> Ventes à l'exportation au Canada | E37: =IF(SUM('Pro 2'!G40:G41)<>0,"X","-") -> - | F37: =IF(SUM('Pro 2'!H40:H41)<>0,"X","-") -> - | G37: =IF(SUM('Pro 2'!I40:I41)<>0,"X","-") -> - | H37: =IF(SUM('Pro 2'!J40:J41)<>0,"X","-") -> - | I37: =IF(SUM('Pro 2'!K40:K41)<>0,"X","-") -> -
B38: ='Pro 2'!B43 -> Ventes à l'exportation aux États-Unis d'Amérique | E38: =IF(SUM('Pro 2'!G43:G44)<>0,"X","-") -> - | F38: =IF(SUM('Pro 2'!H43:H44)<>0,"X","-") -> - | G38: =IF(SUM('Pro 2'!I43:I44)<>0,"X","-") -> - | H38: =IF(SUM('Pro 2'!J43:J44)<>0,"X","-") -> - | I38: =IF(SUM('Pro 2'!K43:K44)<>0,"X","-") -> -
B39: ='Pro 2'!B46 -> Ventes à l'exportation vers tous les autres pays | E39: =IF(SUM('Pro 2'!G46:G47)<>0,"X","-") -> - | F39: =IF(SUM('Pro 2'!H46:H47)<>0,"X","-") -> - | G39: =IF(SUM('Pro 2'!I46:I47)<>0,"X","-") -> - | H39: =IF(SUM('Pro 2'!J46:J47)<>0,"X","-") -> - | I39: =IF(SUM('Pro 2'!K46:K47)<>0,"X","-") -> -
B40: =IF(Intro!$G$21="English",O40,P40) -> Marchés d'exportation | E40: =IF('Pro 2'!D51="","-",'Pro 2'!D51) -> - | O40: Export markets | P40: Marchés d'exportation

Sheet DB
C4: =Intro!E63 -> 0
H5: Jan. - June. | janv. - juin
E6: 2023 | F6: 2024 | G6: 2025 | H6: 2025 | I6: 2026
C8: Practical plant capacity (tonnes) | D8: Capacité pratique des usines (tonnes) | E8: ='Pro 1'!H24 -> 0 | F8: ='Pro 1'!I24 -> 0 | G8: ='Pro 1'!J24 -> 0 | H8: ='Pro 1'!K24 -> 0 | I8: ='Pro 1'!L24 -> 0 | K8: =D8 -> Capacité pratique des usines (tonnes)
C10: Production (tonnes) | D10: Production (tonnes) | K10: =D10 -> Production (tonnes)
C11: Subject goods | D11: Marchandises en cause | E11: ='Pro 1'!H21 -> 0 | F11: ='Pro 1'!I21 -> 0 | G11: ='Pro 1'!J21 -> 0 | H11: ='Pro 1'!K21 -> 0 | I11: ='Pro 1'!L21 -> 0 | K11: =D11 -> Marchandises en cause
C13: Other goods produced on the same equipment | D13: Autres marchandises produites sur le même équipement | E13: ='Pro 1'!H22 -> 0 | F13: ='Pro 1'!I22 -> 0 | G13: ='Pro 1'!J22 -> 0 | H13: ='Pro 1'!K22 -> 0 | I13: ='Pro 1'!L22 -> 0 | K13: =D13 -> Autres marchandises produites sur le même équipement
C14: Total - Production | D14: Total - Production | E14: =SUM(E11:E13) -> 0 | F14: =SUM(F11:F13) -> 0 | G14: =SUM(G11:G13) -> 0 | H14: =SUM(H11:H13) -> 0 | I14: =SUM(I11:I13) -> 0 | K14: =D14 -> Total - Production
C16: Utilization rate (%) | D16: Taux d'utilisation (%) | K16: =D16 -> Taux d'utilisation (%)
C17: =C11 -> Subject goods | D17: =D11 -> Marchandises en cause | E17: =IF(ISERROR(E11/E$8*100),0,(E11/E$8*100)) -> 0 | F17: =IF(ISERROR(F11/F$8*100),0,(F11/F$8*100)) -> 0 | G17: =IF(ISERROR(G11/G$8*100),0,(G11/G$8*100)) -> 0 | H17: =IF(ISERROR(H11/H$8*100),0,(H11/H$8*100)) -> 0 | I17: =IF(ISERROR(I11/I$8*100),0,(I11/I$8*100)) -> 0 | K17: =D17 -> Marchandises en cause
C19: =C13 -> Other goods produced on the same equipment | D19: =D13 -> Autres marchandises produites sur le même équipement | E19: =IF(ISERROR(E13/E$8*100),0,(E13/E$8*100)) -> 0 | F19: =IF(ISERROR(F13/F$8*100),0,(F13/F$8*100)) -> 0 | G19: =IF(ISERROR(G13/G$8*100),0,(G13/G$8*100)) -> 0 | H19: =IF(ISERROR(H13/H$8*100),0,(H13/H$8*100)) -> 0 | I19: =IF(ISERROR(I13/I$8*100),0,(I13/I$8*100)) -> 0 | K19: =D19 -> Autres marchandises produites sur le même équipement
C20: Total - Utilization rate (%) | D20: Total - Taux d'utilisation (%) | E20: =IF(ISERROR(E14/E$8*100),0,(E14/E$8*100)) -> 0 | F20: =IF(ISERROR(F14/F$8*100),0,(F14/F$8*100)) -> 0 | G20: =IF(ISERROR(G14/G$8*100),0,(G14/G$8*100)) -> 0 | H20: =IF(ISERROR(H14/H$8*100),0,(H14/H$8*100)) -> 0 | I20: =IF(ISERROR(I14/I$8*100),0,(I14/I$8*100)) -> 0 | K20: =D20 -> Total - Taux d'utilisation (%)
C22: Domestic sales (tonnes) | D22: Ventes nationales (tonnes) | E22: ='Pro 2'!G37 -> 0 | F22: ='Pro 2'!H37 -> 0 | G22: ='Pro 2'!I37 -> 0 | H22: ='Pro 2'!J37 -> 0 | I22: ='Pro 2'!K37 -> 0 | K22: =D22 -> Ventes nationales (tonnes)
C24: Export sales (tonnes) | D24: Ventes à l'exportation (tonnes) | K24: =D24 -> Ventes à l'exportation (tonnes)
C25: Canada | D25: Canada | E25: ='Pro 2'!G40 -> 0 | F25: ='Pro 2'!H40 -> 0 | G25: ='Pro 2'!I40 -> 0 | H25: ='Pro 2'!J40 -> 0 | I25: ='Pro 2'!K40 -> 0 | K25: =D25 -> Canada
C26: United States | D26: États-Unis | E26: ='Pro 2'!G43 -> 0 | F26: ='Pro 2'!H43 -> 0 | G26: ='Pro 2'!I43 -> 0 | H26: ='Pro 2'!J43 -> 0 | I26: ='Pro 2'!K43 -> 0 | K26: =D26 -> États-Unis
C27: Other countries | D27: Autres pays | E27: ='Pro 2'!G46 -> 0 | F27: ='Pro 2'!H46 -> 0 | G27: ='Pro 2'!I46 -> 0 | H27: ='Pro 2'!J46 -> 0 | I27: ='Pro 2'!K46 -> 0 | K27: =D27 -> Autres pays
C28: Total - Export sales | D28: Total - Ventes à l'exportation | E28: =SUM(E25:E27) -> 0 | F28: =SUM(F25:F27) -> 0 | G28: =SUM(G25:G27) -> 0 | H28: =SUM(H25:H27) -> 0 | I28: =SUM(I25:I27) -> 0 | K28: =D28 -> Total - Ventes à l'exportation

Sheet DataTab
B3: Practical plant capacity (tonnes) | C3: ='Pro 1'!H24 -> 0 | D3: ='Pro 1'!I24 -> 0 | E3: ='Pro 1'!J24 -> 0
B5: Production (tonnes)
B6: Subject goods | C6: ='Pro 1'!H21 -> 0 | D6: ='Pro 1'!I21 -> 0 | E6: ='Pro 1'!J21 -> 0
B7: Other goods produced on the same equipment | C7: ='Pro 1'!H22 -> 0 | D7: ='Pro 1'!I22 -> 0 | E7: ='Pro 1'!J22 -> 0
B8: Total - Production | C8: ='Pro 1'!H23 -> 0 | D8: ='Pro 1'!I23 -> 0 | E8: ='Pro 1'!J23 -> 0
B9: -------
B10: Domestic sales (tonnes) | C10: ='Pro 2'!G37 -> 0 | D10: ='Pro 2'!H37 -> 0 | E10: ='Pro 2'!I37 -> 0
B12: Export sales (tonnes)
B13: Canada | C13: ='Pro 2'!G40 -> 0 | D13: ='Pro 2'!H40 -> 0 | E13: ='Pro 2'!I40 -> 0
B14: United States | C14: ='Pro 2'!#REF! -> #REF! | D14: ='Pro 2'!#REF! -> #REF! | E14: ='Pro 2'!#REF! -> #REF!
B15: Other countries | C15: ='Pro 2'!G46 -> 0 | D15: ='Pro 2'!H46 -> 0 | E15: ='Pro 2'!I46 -> 0
